BEGIN:VCALENDAR
VERSION:2.0
PRODID:-//PRODA - ECPv6.15.13.1//NONSGML v1.0//EN
CALSCALE:GREGORIAN
METHOD:PUBLISH
X-WR-CALNAME:PRODA
X-ORIGINAL-URL:https://proda.no
X-WR-CALDESC:Arrangement for PRODA
REFRESH-INTERVAL;VALUE=DURATION:PT1H
X-Robots-Tag:noindex
X-PUBLISHED-TTL:PT1H
BEGIN:VTIMEZONE
TZID:Europe/Oslo
BEGIN:DAYLIGHT
TZOFFSETFROM:+0100
TZOFFSETTO:+0200
TZNAME:CEST
DTSTART:20240331T010000
END:DAYLIGHT
BEGIN:STANDARD
TZOFFSETFROM:+0200
TZOFFSETTO:+0100
TZNAME:CET
DTSTART:20241027T010000
END:STANDARD
BEGIN:DAYLIGHT
TZOFFSETFROM:+0100
TZOFFSETTO:+0200
TZNAME:CEST
DTSTART:20250330T010000
END:DAYLIGHT
BEGIN:STANDARD
TZOFFSETFROM:+0200
TZOFFSETTO:+0100
TZNAME:CET
DTSTART:20251026T010000
END:STANDARD
BEGIN:DAYLIGHT
TZOFFSETFROM:+0100
TZOFFSETTO:+0200
TZNAME:CEST
DTSTART:20260329T010000
END:DAYLIGHT
BEGIN:STANDARD
TZOFFSETFROM:+0200
TZOFFSETTO:+0100
TZNAME:CET
DTSTART:20261025T010000
END:STANDARD
END:VTIMEZONE
BEGIN:VEVENT
DTSTART;TZID=Europe/Oslo:20250610T103000
DTEND;TZID=Europe/Oslo:20250610T120000
DTSTAMP:20260422T210904
CREATED:20241216T152036Z
LAST-MODIFIED:20250410T182829Z
UID:10003684-1749551400-1749556800@proda.no
SUMMARY:Oslo Jazzdansfestival - Contemporary Jazz med Johanne Margrethe Woie
DESCRIPTION:Contemporary Jazz med Johanne Margrethe Woie \nBeskrivelse av klasse:\nEn contemporary jazzklasse med avslappede rammer. Jeg er opptatt av at danserne skal kjenne på flyt og frihet både i kropp og sinn. Samspillet med menneskene i rommet og musikken utgjør ikke bare bakteppet\, men er en viktig del av selve materien som utgjør klassen. Teknikk har sin selvskrevne plass\, men fokuset ligger på friheten som kan oppnås gjennom den. Klassen er relativt fysisk\, men forsøker å være myk for leddene. \nTorsdag 19. juni kl 18:30 & 20:00 medvirker Woie på Oslo Jazzdansfestival i verket Beneath Skin and Bone koreografert av Woie i samarbeid med Melanie Kajanne Källström og Valentina Reyes. Alle koreografene er også utøvere i verket.\nWoie\, Källström og Reyes tar utgangspunkt i et samfunn de opplever som stadig mer polariserende og et ønske om å utgjøre motpoler til denne utviklingen. Opplevelser som smerte\, glede\, sårbarhet og mot danner usynlige tråder som binder oss sammen. Men hva er det som skjer med trådene når poIariseringen eskalerer? Kan man endre en utvikling som er vanskelig å spore? I Beneath Skin and Bone utforsker koreografene denne tematikken i samarbeid med en jazzmusiker og en videoprojeksjonsskaper og scenograf. Materialet blir skapt i et krysningspunkt mellom jazzens improvisatoriske og dynamiske natur og de særegne uttrykkene til de medvirkende kunstnerne. \nObs!\nValentina Reyes har workshop og samtale onsdag 18. juni på Scenehuset som del av Oslo Jazzdansfestival\, i samarbeid med PRODA.\nSted: Scenehuset\nTid: kl. 10:00 – 13:00\nPåmelding her. \nFoto: Tale Hendnes
URL:https://proda.no/klasse/oslo-jazzdansfestival/2025-06-10/
LOCATION:PRODA Oslo\, Marstrandgata 8\, Oslo\, Norge
CATEGORIES:Oslo Jazzdansfestival
ATTACH;FMTTYPE=image/jpeg:https://proda.no/wp-content/uploads/2024/12/Foto-Tale-Hendnes-2023-27-scaled.jpg
END:VEVENT
BEGIN:VEVENT
DTSTART;TZID=Europe/Oslo:20250611T090000
DTEND;TZID=Europe/Oslo:20250611T103000
DTSTAMP:20260422T210904
CREATED:20241216T140053Z
LAST-MODIFIED:20241126T153532Z
UID:10003466-1749632400-1749637800@proda.no
SUMMARY:Ballett
DESCRIPTION:med Matias Rønningen: \nKlassebeskrivelse: \nBallettklassene starter med enkle dynamiske øvelser ved barren\, før man går over til mer sammensatte og danseriske sekvenser i senter.\nBallett (i mine øyne) handler om en vekselvirkning mellom å oppdage delene og helheten i bevegelsene\, og kan derfor være et verktøy for å bevege seg fritt og direkte i rommet. Et sentralt aspekt er også å utforske leken som kan oppstå når man virkelig omfavner rammene som musikken\, teknikken og øvelsene gir. Når jeg er på klasse selv\, prøver jeg alltid å forholde meg til øvelsene som en form for strukturert improvisasjon\, hvor man hele tiden leter etter pusterom og spontanitet. Dette prøver jeg å legge til rette for i klassene mine. \n  \nFoto: Rune Hammerstad
URL:https://proda.no/klasse/ballett-78/2025-06-11/
LOCATION:PRODA Oslo\, Marstrandgata 8\, Oslo\, Norge
CATEGORIES:Klasser
ATTACH;FMTTYPE=image/jpeg:https://proda.no/wp-content/uploads/2023/12/Matias-Ronningen-kopi-scaled.jpg
END:VEVENT
BEGIN:VEVENT
DTSTART;TZID=Europe/Oslo:20250611T090000
DTEND;TZID=Europe/Oslo:20250611T113000
DTSTAMP:20260422T210904
CREATED:20250605T122420Z
LAST-MODIFIED:20250605T123531Z
UID:10003858-1749632400-1749641400@proda.no
SUMMARY:HEDDA//ELLIS seminar - FRA PRODUKSJON TIL PUBLIKUM: HVORDAN KAN FORESTILLINGENE VI LAGER FÅ ET LENGRE LIV?
DESCRIPTION:FRA PRODUKSJON TIL PUBLIKUM: HVORDAN KAN FORESTILLINGENE VI LAGER FÅ ET LENGRE LIV?\n\nPÅMELDINGEN vil holdes åpen til 11. Juni men man vil da ikke inkludere lunch! \n\n  \nKulturpolitiske strukturer i scenekunstfeltet som helhet er i større grad rettet mot produksjon enn visning. Flere utredninger har pekt på denne ubalansen mellom produksjon og formidling. En problemstilling som frustrerer aktører både i det frie feltet og på institusjonene. \nVi vil belyse perspektiver som kan bidra til endring! \n\nTil dette seminaret har vi samlet aktører med forskjellige posisjoner\, roller og innflytelse i feltet\, enkeltkunstnere og organisasjoner\, som på ulikt vis representerer nye perspektiver på eller løsninger for mer bærekraftig scenekunstproduksjon. Hvordan kan man tenke annerledes om strukturer for produksjon og turné\, finansieringsmodeller\, samarbeidsformer\, praksiser og nettverk\, for å gi forestillingene vi lager et lengre liv? \n\n\nPROGRAM og FORMAT:Del 1: Seminar med foredrag/enkeltinnleggDel 2 avsluttende mini-workshop / rundebordssamtaler \n\n\n Foredrag / enkeltinnlegg ved:KJERSTI HORN / Det Norske TeatretVENKE MARIE SORTLAND og IDA GUDBRANDSEN / LANDINGTORKIL SANDSUND / Teaterfestivalen i FjalerMADELINE RITTER / Bureau Ritter (DE)VICTORIA MEIRIK / Kunsthøgskolen i Oslo\, avd Teater \n\n\n INE THERESE BERG er moderator for arrangementet.Berg har blant annet skrevet rapporten «Mobilisering for mobilitet\, om fri scenekunst og formidling» i samarbeid med Telemarksforskning på oppdrag fra Kulturdirektoratet». Hun er førsteamanuensis i drama og teater ved Norges teknisk-naturvitenskapelige universitet (NTNU)\, hvor hun blant annet underviser i teaterhistorie og dramaturgi. \n\nVELKOMMEN TIL SEMINAR!\n\n\nSeminaret vil strømmes:\nLINK TIL STRØMMING \n\n\nELLIS er et nettverk for erfaringsutveksling og kompetanse. Nettverket består av samarbeidspartnerne Creo – forbundet for kunst og kultur\, Norsk Skuespillersenter\, PRODA Profesjonell Dansetrening\, CODA Oslo International Dance Festival\, PRAXIS Oslo og Skuespiller- og danseralliansen(SKUDA)\, som gjør ulike tiltak for å bedre scenekunstfeltet. \n\n\n\n Landing: Flytende Landskap. Foto: Tom Øverli
URL:https://proda.no/klasse/hedda-ellis-seminar-fra-produksjon-til-publikum-hvordan-kan-forestillingene-vi-lager-fa-et-lengre-liv/
LOCATION:PRODA Oslo\, Marstrandgata 8\, Oslo\, Norge
CATEGORIES:ELLIS,Seminar
ATTACH;FMTTYPE=image/png:https://proda.no/wp-content/uploads/2025/06/FB_ELLIS-Seminar-2025.png
END:VEVENT
BEGIN:VEVENT
DTSTART;TZID=Europe/Oslo:20250611T103000
DTEND;TZID=Europe/Oslo:20250611T120000
DTSTAMP:20260422T210904
CREATED:20241216T140035Z
LAST-MODIFIED:20250523T183149Z
UID:10003480-1749637800-1749643200@proda.no
SUMMARY:Hiphop freestyle
DESCRIPTION:med Kitoko \nDescription of classes:\nThe focus will primarily be on foundations in hip hop freestyle\, with special attention to freestyle techniques. We’ll explore key elements of self-expression and improvisation\, and I’ll share tips for freestyle that help participants to develop their personal style and confidence. \nAdditionally\, if possible \, we’ll look at some video/archives/footages  from different time periods\, giving the participants the chance to see how the approach to dance has evolved over time and how different generations have shaped the culture. \nPhoto from SubsDans
URL:https://proda.no/klasse/hiphop-freestyle/2025-06-11/
LOCATION:PRODA Oslo\, Marstrandgata 8\, Oslo\, Norge
CATEGORIES:Klasser
ATTACH;FMTTYPE=image/jpeg:https://proda.no/wp-content/uploads/2024/12/kitoko_Substans.jpeg
END:VEVENT
BEGIN:VEVENT
DTSTART;TZID=Europe/Oslo:20250612T103000
DTEND;TZID=Europe/Oslo:20250612T120000
DTSTAMP:20260422T210904
CREATED:20241216T152036Z
LAST-MODIFIED:20250410T182829Z
UID:10003685-1749724200-1749729600@proda.no
SUMMARY:Oslo Jazzdansfestival - Contemporary Jazz med Johanne Margrethe Woie
DESCRIPTION:Contemporary Jazz med Johanne Margrethe Woie \nBeskrivelse av klasse:\nEn contemporary jazzklasse med avslappede rammer. Jeg er opptatt av at danserne skal kjenne på flyt og frihet både i kropp og sinn. Samspillet med menneskene i rommet og musikken utgjør ikke bare bakteppet\, men er en viktig del av selve materien som utgjør klassen. Teknikk har sin selvskrevne plass\, men fokuset ligger på friheten som kan oppnås gjennom den. Klassen er relativt fysisk\, men forsøker å være myk for leddene. \nTorsdag 19. juni kl 18:30 & 20:00 medvirker Woie på Oslo Jazzdansfestival i verket Beneath Skin and Bone koreografert av Woie i samarbeid med Melanie Kajanne Källström og Valentina Reyes. Alle koreografene er også utøvere i verket.\nWoie\, Källström og Reyes tar utgangspunkt i et samfunn de opplever som stadig mer polariserende og et ønske om å utgjøre motpoler til denne utviklingen. Opplevelser som smerte\, glede\, sårbarhet og mot danner usynlige tråder som binder oss sammen. Men hva er det som skjer med trådene når poIariseringen eskalerer? Kan man endre en utvikling som er vanskelig å spore? I Beneath Skin and Bone utforsker koreografene denne tematikken i samarbeid med en jazzmusiker og en videoprojeksjonsskaper og scenograf. Materialet blir skapt i et krysningspunkt mellom jazzens improvisatoriske og dynamiske natur og de særegne uttrykkene til de medvirkende kunstnerne. \nObs!\nValentina Reyes har workshop og samtale onsdag 18. juni på Scenehuset som del av Oslo Jazzdansfestival\, i samarbeid med PRODA.\nSted: Scenehuset\nTid: kl. 10:00 – 13:00\nPåmelding her. \nFoto: Tale Hendnes
URL:https://proda.no/klasse/oslo-jazzdansfestival/2025-06-12/
LOCATION:PRODA Oslo\, Marstrandgata 8\, Oslo\, Norge
CATEGORIES:Oslo Jazzdansfestival
ATTACH;FMTTYPE=image/jpeg:https://proda.no/wp-content/uploads/2024/12/Foto-Tale-Hendnes-2023-27-scaled.jpg
END:VEVENT
BEGIN:VEVENT
DTSTART;TZID=Europe/Oslo:20250613T090000
DTEND;TZID=Europe/Oslo:20250613T103000
DTSTAMP:20260422T210904
CREATED:20241216T140053Z
LAST-MODIFIED:20241126T153532Z
UID:10003467-1749805200-1749810600@proda.no
SUMMARY:Ballett
DESCRIPTION:med Matias Rønningen: \nKlassebeskrivelse: \nBallettklassene starter med enkle dynamiske øvelser ved barren\, før man går over til mer sammensatte og danseriske sekvenser i senter.\nBallett (i mine øyne) handler om en vekselvirkning mellom å oppdage delene og helheten i bevegelsene\, og kan derfor være et verktøy for å bevege seg fritt og direkte i rommet. Et sentralt aspekt er også å utforske leken som kan oppstå når man virkelig omfavner rammene som musikken\, teknikken og øvelsene gir. Når jeg er på klasse selv\, prøver jeg alltid å forholde meg til øvelsene som en form for strukturert improvisasjon\, hvor man hele tiden leter etter pusterom og spontanitet. Dette prøver jeg å legge til rette for i klassene mine. \n  \nFoto: Rune Hammerstad
URL:https://proda.no/klasse/ballett-78/2025-06-13/
LOCATION:PRODA Oslo\, Marstrandgata 8\, Oslo\, Norge
CATEGORIES:Klasser
ATTACH;FMTTYPE=image/jpeg:https://proda.no/wp-content/uploads/2023/12/Matias-Ronningen-kopi-scaled.jpg
END:VEVENT
BEGIN:VEVENT
DTSTART;TZID=Europe/Oslo:20250613T103000
DTEND;TZID=Europe/Oslo:20250613T120000
DTSTAMP:20260422T210904
CREATED:20250313T190525Z
LAST-MODIFIED:20250313T192114Z
UID:10003709-1749810600-1749816000@proda.no
SUMMARY:Musikaljazz / teaterjazz
DESCRIPTION:med Maria Wulcan \nBeskrivelse av klasse\, musikaljazz/ teater jazz: \nKlassen startar med uppvärmning \, styrka och kombinationer över golvet innan vi sätter tänderna i en koreografi! Fokus på musikalitet\, tempo\, lite teknik men framförallt att ha kul och dansa!\nLåga skuldror\, ingen prestige bara kom och dansa\, svettas och ha en rolig klass tillsammans! \nFoto: John Sandlund \nPRODAs klasser under sjangeren musikaldans er støttet av Musikkteaterforum i CREO.\nDenne støtten gjør det mulig med et mer utvidet tilbudet enn hva som ellers hadde vært mulig. \n  \nFoto: John Sandlund
URL:https://proda.no/klasse/musikaljazz-2/2025-06-13/
LOCATION:PRODA Oslo\, Marstrandgata 8\, Oslo\, Norge
CATEGORIES:Klasser
ATTACH;FMTTYPE=image/jpeg:https://proda.no/wp-content/uploads/2023/02/Maria-Wulcan_John-Sandlund-scaled.jpeg
END:VEVENT
BEGIN:VEVENT
DTSTART;TZID=Europe/Oslo:20250613T120000
DTEND;TZID=Europe/Oslo:20250613T130000
DTSTAMP:20260422T210904
CREATED:20241216T153221Z
LAST-MODIFIED:20250128T105720Z
UID:10003686-1749816000-1749819600@proda.no
SUMMARY:Sommeravslutning
DESCRIPTION:Vi markerer avslutningen på vår-semesteret og inngangen til sommeren. \nVi serverer is og te/kaffe kl. 12:00\nVelkommen! \n 
URL:https://proda.no/klasse/sommeravslutning-3/
LOCATION:PRODA Oslo\, Marstrandgata 8\, Oslo\, Norge
CATEGORIES:Sosialt
ATTACH;FMTTYPE=image/png:https://proda.no/wp-content/uploads/2024/12/Sommeravslutning-2025-1.png
END:VEVENT
END:VCALENDAR