BEGIN:VCALENDAR
VERSION:2.0
PRODID:-//PRODA - ECPv6.15.13.1//NONSGML v1.0//EN
CALSCALE:GREGORIAN
METHOD:PUBLISH
X-WR-CALNAME:PRODA
X-ORIGINAL-URL:https://proda.no
X-WR-CALDESC:Arrangement for PRODA
REFRESH-INTERVAL;VALUE=DURATION:PT1H
X-Robots-Tag:noindex
X-PUBLISHED-TTL:PT1H
BEGIN:VTIMEZONE
TZID:Europe/Oslo
BEGIN:DAYLIGHT
TZOFFSETFROM:+0100
TZOFFSETTO:+0200
TZNAME:CEST
DTSTART:20240331T010000
END:DAYLIGHT
BEGIN:STANDARD
TZOFFSETFROM:+0200
TZOFFSETTO:+0100
TZNAME:CET
DTSTART:20241027T010000
END:STANDARD
BEGIN:DAYLIGHT
TZOFFSETFROM:+0100
TZOFFSETTO:+0200
TZNAME:CEST
DTSTART:20250330T010000
END:DAYLIGHT
BEGIN:STANDARD
TZOFFSETFROM:+0200
TZOFFSETTO:+0100
TZNAME:CET
DTSTART:20251026T010000
END:STANDARD
BEGIN:DAYLIGHT
TZOFFSETFROM:+0100
TZOFFSETTO:+0200
TZNAME:CEST
DTSTART:20260329T010000
END:DAYLIGHT
BEGIN:STANDARD
TZOFFSETFROM:+0200
TZOFFSETTO:+0100
TZNAME:CET
DTSTART:20261025T010000
END:STANDARD
END:VTIMEZONE
BEGIN:VEVENT
DTSTART;TZID=Europe/Oslo:20250602T090000
DTEND;TZID=Europe/Oslo:20250602T103000
DTSTAMP:20260422T173535
CREATED:20241216T140053Z
LAST-MODIFIED:20241126T153532Z
UID:10003463-1748854800-1748860200@proda.no
SUMMARY:Ballett
DESCRIPTION:med Matias Rønningen: \nKlassebeskrivelse: \nBallettklassene starter med enkle dynamiske øvelser ved barren\, før man går over til mer sammensatte og danseriske sekvenser i senter.\nBallett (i mine øyne) handler om en vekselvirkning mellom å oppdage delene og helheten i bevegelsene\, og kan derfor være et verktøy for å bevege seg fritt og direkte i rommet. Et sentralt aspekt er også å utforske leken som kan oppstå når man virkelig omfavner rammene som musikken\, teknikken og øvelsene gir. Når jeg er på klasse selv\, prøver jeg alltid å forholde meg til øvelsene som en form for strukturert improvisasjon\, hvor man hele tiden leter etter pusterom og spontanitet. Dette prøver jeg å legge til rette for i klassene mine. \n  \nFoto: Rune Hammerstad
URL:https://proda.no/klasse/ballett-78/2025-06-02/
LOCATION:PRODA Oslo\, Marstrandgata 8\, Oslo\, Norge
CATEGORIES:Klasser
ATTACH;FMTTYPE=image/jpeg:https://proda.no/wp-content/uploads/2023/12/Matias-Ronningen-kopi-scaled.jpg
END:VEVENT
BEGIN:VEVENT
DTSTART;TZID=Europe/Oslo:20250603T103000
DTEND;TZID=Europe/Oslo:20250603T120000
DTSTAMP:20260422T173535
CREATED:20241216T140035Z
LAST-MODIFIED:20250523T183149Z
UID:10003477-1748946600-1748952000@proda.no
SUMMARY:Hiphop freestyle
DESCRIPTION:med Kitoko \nDescription of classes:\nThe focus will primarily be on foundations in hip hop freestyle\, with special attention to freestyle techniques. We’ll explore key elements of self-expression and improvisation\, and I’ll share tips for freestyle that help participants to develop their personal style and confidence. \nAdditionally\, if possible \, we’ll look at some video/archives/footages  from different time periods\, giving the participants the chance to see how the approach to dance has evolved over time and how different generations have shaped the culture. \nPhoto from SubsDans
URL:https://proda.no/klasse/hiphop-freestyle/2025-06-03/
LOCATION:PRODA Oslo\, Marstrandgata 8\, Oslo\, Norge
CATEGORIES:Klasser
ATTACH;FMTTYPE=image/jpeg:https://proda.no/wp-content/uploads/2024/12/kitoko_Substans.jpeg
END:VEVENT
BEGIN:VEVENT
DTSTART;TZID=Europe/Oslo:20250604T090000
DTEND;TZID=Europe/Oslo:20250604T103000
DTSTAMP:20260422T173535
CREATED:20241216T140053Z
LAST-MODIFIED:20241126T153532Z
UID:10003464-1749027600-1749033000@proda.no
SUMMARY:Ballett
DESCRIPTION:med Matias Rønningen: \nKlassebeskrivelse: \nBallettklassene starter med enkle dynamiske øvelser ved barren\, før man går over til mer sammensatte og danseriske sekvenser i senter.\nBallett (i mine øyne) handler om en vekselvirkning mellom å oppdage delene og helheten i bevegelsene\, og kan derfor være et verktøy for å bevege seg fritt og direkte i rommet. Et sentralt aspekt er også å utforske leken som kan oppstå når man virkelig omfavner rammene som musikken\, teknikken og øvelsene gir. Når jeg er på klasse selv\, prøver jeg alltid å forholde meg til øvelsene som en form for strukturert improvisasjon\, hvor man hele tiden leter etter pusterom og spontanitet. Dette prøver jeg å legge til rette for i klassene mine. \n  \nFoto: Rune Hammerstad
URL:https://proda.no/klasse/ballett-78/2025-06-04/
LOCATION:PRODA Oslo\, Marstrandgata 8\, Oslo\, Norge
CATEGORIES:Klasser
ATTACH;FMTTYPE=image/jpeg:https://proda.no/wp-content/uploads/2023/12/Matias-Ronningen-kopi-scaled.jpg
END:VEVENT
BEGIN:VEVENT
DTSTART;TZID=Europe/Oslo:20250604T103000
DTEND;TZID=Europe/Oslo:20250604T120000
DTSTAMP:20260422T173535
CREATED:20241216T140035Z
LAST-MODIFIED:20250523T183149Z
UID:10003478-1749033000-1749038400@proda.no
SUMMARY:Hiphop freestyle
DESCRIPTION:med Kitoko \nDescription of classes:\nThe focus will primarily be on foundations in hip hop freestyle\, with special attention to freestyle techniques. We’ll explore key elements of self-expression and improvisation\, and I’ll share tips for freestyle that help participants to develop their personal style and confidence. \nAdditionally\, if possible \, we’ll look at some video/archives/footages  from different time periods\, giving the participants the chance to see how the approach to dance has evolved over time and how different generations have shaped the culture. \nPhoto from SubsDans
URL:https://proda.no/klasse/hiphop-freestyle/2025-06-04/
LOCATION:PRODA Oslo\, Marstrandgata 8\, Oslo\, Norge
CATEGORIES:Klasser
ATTACH;FMTTYPE=image/jpeg:https://proda.no/wp-content/uploads/2024/12/kitoko_Substans.jpeg
END:VEVENT
BEGIN:VEVENT
DTSTART;TZID=Europe/Oslo:20250605T103000
DTEND;TZID=Europe/Oslo:20250605T120000
DTSTAMP:20260422T173535
CREATED:20241216T140035Z
LAST-MODIFIED:20250523T183149Z
UID:10003479-1749119400-1749124800@proda.no
SUMMARY:Hiphop freestyle
DESCRIPTION:med Kitoko \nDescription of classes:\nThe focus will primarily be on foundations in hip hop freestyle\, with special attention to freestyle techniques. We’ll explore key elements of self-expression and improvisation\, and I’ll share tips for freestyle that help participants to develop their personal style and confidence. \nAdditionally\, if possible \, we’ll look at some video/archives/footages  from different time periods\, giving the participants the chance to see how the approach to dance has evolved over time and how different generations have shaped the culture. \nPhoto from SubsDans
URL:https://proda.no/klasse/hiphop-freestyle/2025-06-05/
LOCATION:PRODA Oslo\, Marstrandgata 8\, Oslo\, Norge
CATEGORIES:Klasser
ATTACH;FMTTYPE=image/jpeg:https://proda.no/wp-content/uploads/2024/12/kitoko_Substans.jpeg
END:VEVENT
BEGIN:VEVENT
DTSTART;TZID=Europe/Oslo:20250606T090000
DTEND;TZID=Europe/Oslo:20250606T103000
DTSTAMP:20260422T173535
CREATED:20241216T140053Z
LAST-MODIFIED:20241126T153532Z
UID:10003465-1749200400-1749205800@proda.no
SUMMARY:Ballett
DESCRIPTION:med Matias Rønningen: \nKlassebeskrivelse: \nBallettklassene starter med enkle dynamiske øvelser ved barren\, før man går over til mer sammensatte og danseriske sekvenser i senter.\nBallett (i mine øyne) handler om en vekselvirkning mellom å oppdage delene og helheten i bevegelsene\, og kan derfor være et verktøy for å bevege seg fritt og direkte i rommet. Et sentralt aspekt er også å utforske leken som kan oppstå når man virkelig omfavner rammene som musikken\, teknikken og øvelsene gir. Når jeg er på klasse selv\, prøver jeg alltid å forholde meg til øvelsene som en form for strukturert improvisasjon\, hvor man hele tiden leter etter pusterom og spontanitet. Dette prøver jeg å legge til rette for i klassene mine. \n  \nFoto: Rune Hammerstad
URL:https://proda.no/klasse/ballett-78/2025-06-06/
LOCATION:PRODA Oslo\, Marstrandgata 8\, Oslo\, Norge
CATEGORIES:Klasser
ATTACH;FMTTYPE=image/jpeg:https://proda.no/wp-content/uploads/2023/12/Matias-Ronningen-kopi-scaled.jpg
END:VEVENT
BEGIN:VEVENT
DTSTART;TZID=Europe/Oslo:20250606T103000
DTEND;TZID=Europe/Oslo:20250606T120000
DTSTAMP:20260422T173535
CREATED:20250313T190525Z
LAST-MODIFIED:20250313T192114Z
UID:10003708-1749205800-1749211200@proda.no
SUMMARY:Musikaljazz / teaterjazz
DESCRIPTION:med Maria Wulcan \nBeskrivelse av klasse\, musikaljazz/ teater jazz: \nKlassen startar med uppvärmning \, styrka och kombinationer över golvet innan vi sätter tänderna i en koreografi! Fokus på musikalitet\, tempo\, lite teknik men framförallt att ha kul och dansa!\nLåga skuldror\, ingen prestige bara kom och dansa\, svettas och ha en rolig klass tillsammans! \nFoto: John Sandlund \nPRODAs klasser under sjangeren musikaldans er støttet av Musikkteaterforum i CREO.\nDenne støtten gjør det mulig med et mer utvidet tilbudet enn hva som ellers hadde vært mulig. \n  \nFoto: John Sandlund
URL:https://proda.no/klasse/musikaljazz-2/2025-06-06/
LOCATION:PRODA Oslo\, Marstrandgata 8\, Oslo\, Norge
CATEGORIES:Klasser
ATTACH;FMTTYPE=image/jpeg:https://proda.no/wp-content/uploads/2023/02/Maria-Wulcan_John-Sandlund-scaled.jpeg
END:VEVENT
END:VCALENDAR