BEGIN:VCALENDAR
VERSION:2.0
PRODID:-//PRODA - ECPv6.15.13.1//NONSGML v1.0//EN
CALSCALE:GREGORIAN
METHOD:PUBLISH
X-WR-CALNAME:PRODA
X-ORIGINAL-URL:https://proda.no
X-WR-CALDESC:Arrangement for PRODA
REFRESH-INTERVAL;VALUE=DURATION:PT1H
X-Robots-Tag:noindex
X-PUBLISHED-TTL:PT1H
BEGIN:VTIMEZONE
TZID:Europe/Oslo
BEGIN:DAYLIGHT
TZOFFSETFROM:+0100
TZOFFSETTO:+0200
TZNAME:CEST
DTSTART:20240331T010000
END:DAYLIGHT
BEGIN:STANDARD
TZOFFSETFROM:+0200
TZOFFSETTO:+0100
TZNAME:CET
DTSTART:20241027T010000
END:STANDARD
BEGIN:DAYLIGHT
TZOFFSETFROM:+0100
TZOFFSETTO:+0200
TZNAME:CEST
DTSTART:20250330T010000
END:DAYLIGHT
BEGIN:STANDARD
TZOFFSETFROM:+0200
TZOFFSETTO:+0100
TZNAME:CET
DTSTART:20251026T010000
END:STANDARD
BEGIN:DAYLIGHT
TZOFFSETFROM:+0100
TZOFFSETTO:+0200
TZNAME:CEST
DTSTART:20260329T010000
END:DAYLIGHT
BEGIN:STANDARD
TZOFFSETFROM:+0200
TZOFFSETTO:+0100
TZNAME:CET
DTSTART:20261025T010000
END:STANDARD
END:VTIMEZONE
BEGIN:VEVENT
DTSTART;TZID=Europe/Oslo:20250428T103000
DTEND;TZID=Europe/Oslo:20250428T120000
DTSTAMP:20260421T215941
CREATED:20241216T140050Z
LAST-MODIFIED:20250423T111004Z
UID:10003452-1745836200-1745841600@proda.no
SUMMARY:Ballett
DESCRIPTION:med Sissel Aarseth \nBeskrivelse av klasse: \nI sine klasser er Sissel opptatt av å ha en god og tilpasset oppbygning og utvikling\, med utgangspunkt i klassisk teknikk og metodikk.\nHun fokuserer blant annet på romopplevelse/bruk av rom og retninger\, plassering\, artikulasjon\, dynamikk\, koordinasjon\, balanse og musikalitet.\nSissel ønsker å gi inspirerende klasser som inkluderer alle og gir trygghet/rom for individualitet og personlig tilpasning og tolkning. Det er et mål for Sissel at den enkelte danser kan oppleve mestring og utvikling i hennes klasser – uavhengig av nivå\, metodikk og bakgrunn. \nFoto: Jörg Wiesner
URL:https://proda.no/klasse/ballett-77/2025-04-28/
LOCATION:PRODA Oslo\, Marstrandgata 8\, Oslo\, Norge
CATEGORIES:Klasser
ATTACH;FMTTYPE=image/jpeg:https://proda.no/wp-content/uploads/2023/06/Sissel-Aarseth_Jorg-Wiesner.jpeg
END:VEVENT
BEGIN:VEVENT
DTSTART;TZID=Europe/Oslo:20250429T103000
DTEND;TZID=Europe/Oslo:20250429T120000
DTSTAMP:20260421T215941
CREATED:20241216T140047Z
LAST-MODIFIED:20250422T133409Z
UID:10003485-1745922600-1745928000@proda.no
SUMMARY:Samtidsdans
DESCRIPTION:med Iannes Bruylant: \nClass description: \n\nThe class will be a contemporary floor work class in which the focus will be on relaxation and release into the floor. I usually start with a short warm-up inspired by the release technique and somatics as it helps get rid of unnecessary tension\, which is a thread through the class “How to waste less energy and use momentum and release to drive movement». This is my goal even when the movement material gets more complex. Then I usually work on some isolated basic coordinations and floor technique through crossings. Later I work on longer phrasing integrating the elements from earlier and focusing on continuity. On of my main goals is an encouraging\, positive and growth based atmosphere. \n\n\nFoto: Neil Nisbet
URL:https://proda.no/klasse/samtidsdans-34/2025-04-29/
LOCATION:PRODA Oslo\, Marstrandgata 8\, Oslo\, Norge
CATEGORIES:Klasser
ATTACH;FMTTYPE=image/jpeg:https://proda.no/wp-content/uploads/2024/12/Iannes-Bruylant_Niel-Nisbet-scaled.jpg
END:VEVENT
BEGIN:VEVENT
DTSTART;TZID=Europe/Oslo:20250430T103000
DTEND;TZID=Europe/Oslo:20250430T120000
DTSTAMP:20260421T215941
CREATED:20241216T140050Z
LAST-MODIFIED:20250423T111004Z
UID:10003451-1746009000-1746014400@proda.no
SUMMARY:Ballett
DESCRIPTION:med Sissel Aarseth \nBeskrivelse av klasse: \nI sine klasser er Sissel opptatt av å ha en god og tilpasset oppbygning og utvikling\, med utgangspunkt i klassisk teknikk og metodikk.\nHun fokuserer blant annet på romopplevelse/bruk av rom og retninger\, plassering\, artikulasjon\, dynamikk\, koordinasjon\, balanse og musikalitet.\nSissel ønsker å gi inspirerende klasser som inkluderer alle og gir trygghet/rom for individualitet og personlig tilpasning og tolkning. Det er et mål for Sissel at den enkelte danser kan oppleve mestring og utvikling i hennes klasser – uavhengig av nivå\, metodikk og bakgrunn. \nFoto: Jörg Wiesner
URL:https://proda.no/klasse/ballett-77/2025-04-30/
LOCATION:PRODA Oslo\, Marstrandgata 8\, Oslo\, Norge
CATEGORIES:Klasser
ATTACH;FMTTYPE=image/jpeg:https://proda.no/wp-content/uploads/2023/06/Sissel-Aarseth_Jorg-Wiesner.jpeg
END:VEVENT
BEGIN:VEVENT
DTSTART;TZID=Europe/Oslo:20250502T090000
DTEND;TZID=Europe/Oslo:20250502T103000
DTSTAMP:20260421T215941
CREATED:20241216T140057Z
LAST-MODIFIED:20241202T091533Z
UID:10003441-1746176400-1746181800@proda.no
SUMMARY:Musikaldans
DESCRIPTION:med Cynthia Kai \nDescription of class: \nShort basic warm up.\nDance technic and choreography focused class with lots of fun!\nOriginal choreography from musicals.\nHeels are optional but good practice\, NO stilettos! \n  \n 
URL:https://proda.no/klasse/musikaldans-18/2025-05-02/
LOCATION:PRODA Oslo\, Marstrandgata 8\, Oslo\, Norge
CATEGORIES:Klasser
ATTACH;FMTTYPE=image/jpeg:https://proda.no/wp-content/uploads/2024/12/Cynthia-Kai.jpeg
END:VEVENT
BEGIN:VEVENT
DTSTART;TZID=Europe/Oslo:20250502T103000
DTEND;TZID=Europe/Oslo:20250502T120000
DTSTAMP:20260421T215941
CREATED:20241216T140050Z
LAST-MODIFIED:20250423T111004Z
UID:10003453-1746181800-1746187200@proda.no
SUMMARY:Ballett
DESCRIPTION:med Sissel Aarseth \nBeskrivelse av klasse: \nI sine klasser er Sissel opptatt av å ha en god og tilpasset oppbygning og utvikling\, med utgangspunkt i klassisk teknikk og metodikk.\nHun fokuserer blant annet på romopplevelse/bruk av rom og retninger\, plassering\, artikulasjon\, dynamikk\, koordinasjon\, balanse og musikalitet.\nSissel ønsker å gi inspirerende klasser som inkluderer alle og gir trygghet/rom for individualitet og personlig tilpasning og tolkning. Det er et mål for Sissel at den enkelte danser kan oppleve mestring og utvikling i hennes klasser – uavhengig av nivå\, metodikk og bakgrunn. \nFoto: Jörg Wiesner
URL:https://proda.no/klasse/ballett-77/2025-05-02/
LOCATION:PRODA Oslo\, Marstrandgata 8\, Oslo\, Norge
CATEGORIES:Klasser
ATTACH;FMTTYPE=image/jpeg:https://proda.no/wp-content/uploads/2023/06/Sissel-Aarseth_Jorg-Wiesner.jpeg
END:VEVENT
END:VCALENDAR