BEGIN:VCALENDAR
VERSION:2.0
PRODID:-//PRODA - ECPv6.15.13.1//NONSGML v1.0//EN
CALSCALE:GREGORIAN
METHOD:PUBLISH
X-ORIGINAL-URL:https://proda.no
X-WR-CALDESC:Arrangement for PRODA
REFRESH-INTERVAL;VALUE=DURATION:PT1H
X-Robots-Tag:noindex
X-PUBLISHED-TTL:PT1H
BEGIN:VTIMEZONE
TZID:Europe/Oslo
BEGIN:DAYLIGHT
TZOFFSETFROM:+0100
TZOFFSETTO:+0200
TZNAME:CEST
DTSTART:20240331T010000
END:DAYLIGHT
BEGIN:STANDARD
TZOFFSETFROM:+0200
TZOFFSETTO:+0100
TZNAME:CET
DTSTART:20241027T010000
END:STANDARD
BEGIN:DAYLIGHT
TZOFFSETFROM:+0100
TZOFFSETTO:+0200
TZNAME:CEST
DTSTART:20250330T010000
END:DAYLIGHT
BEGIN:STANDARD
TZOFFSETFROM:+0200
TZOFFSETTO:+0100
TZNAME:CET
DTSTART:20251026T010000
END:STANDARD
BEGIN:DAYLIGHT
TZOFFSETFROM:+0100
TZOFFSETTO:+0200
TZNAME:CEST
DTSTART:20260329T010000
END:DAYLIGHT
BEGIN:STANDARD
TZOFFSETFROM:+0200
TZOFFSETTO:+0100
TZNAME:CET
DTSTART:20261025T010000
END:STANDARD
END:VTIMEZONE
BEGIN:VEVENT
DTSTART;TZID=Europe/Oslo:20250324T103000
DTEND;TZID=Europe/Oslo:20250324T120000
DTSTAMP:20260419T143444
CREATED:20241216T140054Z
LAST-MODIFIED:20241204T135616Z
UID:10003501-1742812200-1742817600@proda.no
SUMMARY:Ballett
DESCRIPTION:med Kristian Alm \nBeskrivelse av klasse:\nKristian sine klasser fokuserer på dynamikk\, flyt og forflytting i rommet. Barren er logisk og relativ enkel\, og i senter er det fokus på å danse stort og dynamisk. Klassene har som mål at danserne skal få beveget mest mulig på seg\, og få repetert øvelser flere ganger.
URL:https://proda.no/klasse/ballett-79/2025-03-24/
LOCATION:PRODA Oslo\, Marstrandgata 8\, Oslo\, Norge
CATEGORIES:Klasser
ATTACH;FMTTYPE=image/jpeg:https://proda.no/wp-content/uploads/2020/01/kristian_alm_5306.jpg
END:VEVENT
BEGIN:VEVENT
DTSTART;TZID=Europe/Oslo:20250325T090000
DTEND;TZID=Europe/Oslo:20250325T103000
DTSTAMP:20260419T143444
CREATED:20241216T140029Z
LAST-MODIFIED:20241206T082747Z
UID:10003431-1742893200-1742898600@proda.no
SUMMARY:Jazz
DESCRIPTION:med Trude Amalie Leirpoll \nKlassebeskrivelse:\nI Trudes jazz-klasser er hun opptatt av et allsidig dansespråk\, viktigheten av kroppsbevissthet\, rom forståelse\, funksjonalitet og hvor bevegelsene kommer fra. Bruk av rygg og torso står sentralt i hennes undervisning. Hun er og opptatt av at alle har ulike kropper og trenger ulik veiledning. \n 
URL:https://proda.no/klasse/jazz-22/2025-03-25/
LOCATION:PRODA Oslo\, Marstrandgata 8\, Oslo\, Norge
CATEGORIES:Klasser
ATTACH;FMTTYPE=image/jpeg:https://proda.no/wp-content/uploads/2017/08/Trude-Leirpoll.jpg
END:VEVENT
BEGIN:VEVENT
DTSTART;TZID=Europe/Oslo:20250326T103000
DTEND;TZID=Europe/Oslo:20250326T120000
DTSTAMP:20260419T143444
CREATED:20241216T140054Z
LAST-MODIFIED:20241204T135616Z
UID:10003502-1742985000-1742990400@proda.no
SUMMARY:Ballett
DESCRIPTION:med Kristian Alm \nBeskrivelse av klasse:\nKristian sine klasser fokuserer på dynamikk\, flyt og forflytting i rommet. Barren er logisk og relativ enkel\, og i senter er det fokus på å danse stort og dynamisk. Klassene har som mål at danserne skal få beveget mest mulig på seg\, og få repetert øvelser flere ganger.
URL:https://proda.no/klasse/ballett-79/2025-03-26/
LOCATION:PRODA Oslo\, Marstrandgata 8\, Oslo\, Norge
CATEGORIES:Klasser
ATTACH;FMTTYPE=image/jpeg:https://proda.no/wp-content/uploads/2020/01/kristian_alm_5306.jpg
END:VEVENT
BEGIN:VEVENT
DTSTART;TZID=Europe/Oslo:20250327T090000
DTEND;TZID=Europe/Oslo:20250327T103000
DTSTAMP:20260419T143444
CREATED:20241216T140029Z
LAST-MODIFIED:20241206T082747Z
UID:10003432-1743066000-1743071400@proda.no
SUMMARY:Jazz
DESCRIPTION:med Trude Amalie Leirpoll \nKlassebeskrivelse:\nI Trudes jazz-klasser er hun opptatt av et allsidig dansespråk\, viktigheten av kroppsbevissthet\, rom forståelse\, funksjonalitet og hvor bevegelsene kommer fra. Bruk av rygg og torso står sentralt i hennes undervisning. Hun er og opptatt av at alle har ulike kropper og trenger ulik veiledning. \n 
URL:https://proda.no/klasse/jazz-22/2025-03-27/
LOCATION:PRODA Oslo\, Marstrandgata 8\, Oslo\, Norge
CATEGORIES:Klasser
ATTACH;FMTTYPE=image/jpeg:https://proda.no/wp-content/uploads/2017/08/Trude-Leirpoll.jpg
END:VEVENT
BEGIN:VEVENT
DTSTART;TZID=Europe/Oslo:20250328T103000
DTEND;TZID=Europe/Oslo:20250328T120000
DTSTAMP:20260419T143444
CREATED:20241216T140054Z
LAST-MODIFIED:20241204T135616Z
UID:10003503-1743157800-1743163200@proda.no
SUMMARY:Ballett
DESCRIPTION:med Kristian Alm \nBeskrivelse av klasse:\nKristian sine klasser fokuserer på dynamikk\, flyt og forflytting i rommet. Barren er logisk og relativ enkel\, og i senter er det fokus på å danse stort og dynamisk. Klassene har som mål at danserne skal få beveget mest mulig på seg\, og få repetert øvelser flere ganger.
URL:https://proda.no/klasse/ballett-79/2025-03-28/
LOCATION:PRODA Oslo\, Marstrandgata 8\, Oslo\, Norge
CATEGORIES:Klasser
ATTACH;FMTTYPE=image/jpeg:https://proda.no/wp-content/uploads/2020/01/kristian_alm_5306.jpg
END:VEVENT
END:VCALENDAR