BEGIN:VCALENDAR
VERSION:2.0
PRODID:-//PRODA - ECPv6.15.13.1//NONSGML v1.0//EN
CALSCALE:GREGORIAN
METHOD:PUBLISH
X-WR-CALNAME:PRODA
X-ORIGINAL-URL:https://proda.no
X-WR-CALDESC:Arrangement for PRODA
REFRESH-INTERVAL;VALUE=DURATION:PT1H
X-Robots-Tag:noindex
X-PUBLISHED-TTL:PT1H
BEGIN:VTIMEZONE
TZID:Europe/Oslo
BEGIN:DAYLIGHT
TZOFFSETFROM:+0100
TZOFFSETTO:+0200
TZNAME:CEST
DTSTART:20240331T010000
END:DAYLIGHT
BEGIN:STANDARD
TZOFFSETFROM:+0200
TZOFFSETTO:+0100
TZNAME:CET
DTSTART:20241027T010000
END:STANDARD
BEGIN:DAYLIGHT
TZOFFSETFROM:+0100
TZOFFSETTO:+0200
TZNAME:CEST
DTSTART:20250330T010000
END:DAYLIGHT
BEGIN:STANDARD
TZOFFSETFROM:+0200
TZOFFSETTO:+0100
TZNAME:CET
DTSTART:20251026T010000
END:STANDARD
BEGIN:DAYLIGHT
TZOFFSETFROM:+0100
TZOFFSETTO:+0200
TZNAME:CEST
DTSTART:20260329T010000
END:DAYLIGHT
BEGIN:STANDARD
TZOFFSETFROM:+0200
TZOFFSETTO:+0100
TZNAME:CET
DTSTART:20261025T010000
END:STANDARD
END:VTIMEZONE
BEGIN:VEVENT
DTSTART;TZID=Europe/Oslo:20250203T103000
DTEND;TZID=Europe/Oslo:20250203T120000
DTSTAMP:20260422T121824
CREATED:20241216T140048Z
LAST-MODIFIED:20241120T124358Z
UID:10003410-1738578600-1738584000@proda.no
SUMMARY:Ballett
DESCRIPTION:med Camilla Spidsøe \nBeskrivelse av klasse: \nMin karriere som danser er ekstremt variert og med store kontraster. Hovedfokus er på ballett som min mest brukte teknikk og treningsform \, men sterkt påvirket av min egen personlige stil og signatur som er en fusion av alt jeg har gjort. Selv om jeg har ballett som hoved trening \, er det stort sett moderne dans / samtids dans jeg utfører på scenen. \nFra livet som danser i Carte Blanche i Bergen til å være solist i operaen har det gitt meg så mye erfaring i bevegelses mønster og mine ballettklasser er inspirert av hvordan jeg selv danser på scenen og samtidig med små element av yoga som sniker seg inn mellom øvelser. \nJeg er opptatt av at vi hele tiden får bevege overkropp og armer like mye som bena og fokuserer på hvor langt vår kropp kan gå i forskjellige små og store vinkler og sirkler med våre ledd. For meg er all dans en helhets opplevelse og tilstedeværelse\, hvor jeg inspirerer til å finne kraften og lidenskapen inni oss for så å la det sitre ut av kroppen. Jeg er også nøye med at alle er vi forskjellige i vår fysikk\, og at i stedet for å prøve å kopiere en satt teknikk\, så finner vi vår egen personlige måte å utføre teknikken og bevegelsene. Profesjonelle klasser er spesielt inspirerende for meg \, da jeg kan dele direkte mine erfaringer med dere som også har mye kunnskap. Jeg vil si at klassene mine er veldig fysiske og organiske i sin oppbygging slik at kroppen vår blir åpen og sterk.
URL:https://proda.no/klasse/ballett-75/2025-02-03/
LOCATION:PRODA Oslo\, Marstrandgata 8\, Oslo\, Norge
CATEGORIES:Klasser
ATTACH;FMTTYPE=image/jpeg:https://proda.no/wp-content/uploads/2020/01/camilla-spidsoe_2330.jpg
END:VEVENT
BEGIN:VEVENT
DTSTART;TZID=Europe/Oslo:20250204T103000
DTEND;TZID=Europe/Oslo:20250204T120000
DTSTAMP:20260422T121824
CREATED:20241216T140001Z
LAST-MODIFIED:20250123T160828Z
UID:10003673-1738665000-1738670400@proda.no
SUMMARY:Dansens Dager Ambassadør Silje Onstad Hålien / Dansens Dager Dansen
DESCRIPTION:Lær Dansens Dager dansen av Dansens Dager Ambassadør Silje Onstad Hålien!  \nDansens Dager ambassadøren for 2025 er Silje Onstad Hålien.\nDansens Dager slenger seg med på folkedans-bølgen og sjanger for Dansens Dager dansen er  folkedans! Den er koreografert av Silje og er en herlig blanding av ril\, pardans og halling. \nLanseringingen av dansen er den 1. februar som del av dansefestivalen Dans\, dans\, dans på Riksscenen. Da kan du oppleve årets Dansens Dager-dans live med fantastiske dansere i hovedsalen på Riksscenen. Les mer om slippet av Dansens Dager dansen her.\nDansen slippes også som instruksjonsfilm 1. februar og du finner den da på dansensdager.no. \nDen 4. februar kommer Silje Onstad Hålien til PRODA for å lære bort Dansens Dager dansen. Det blir garantert gøy !\nKlassen er åpen for alle interesserte; dansere\, folkedansere eller pedagoger som ikke er registrerte brukere av PRODA. VELKOMMEN \n  \nLes mer om Silje Onstad Hålien som Dansens Dager Ambassadør på Danseinformasjonens hjemmesider her. \n\nDansens Dager 2025 – 25. – 29 april\nDansens Dag ble opprettet av UNESCO i 1982. Målet er å løfte frem og synliggjøre dansekunst og betydningen dans kan ha både for et samfunn og for enkeltindividet. Feiringen foregår i mer enn 60 land og har en inkluderende og forenende ramme. Danseinformasjonen er nasjonal koordinator for feiringen og alle er velkomne til å delta. \nFoto portrett Silje Onstad Hålien\, fotograf Sigrun Drivdal Johnsen\, Danseinformasjonen\nFoto av Dansens Dager dansen\, Peter Albers\, Danseinformasjonen
URL:https://proda.no/klasse/dansens-dager-ambassador-dansens-dager-dansen/
CATEGORIES:Dansens Dager
ATTACH;FMTTYPE=image/png:https://proda.no/wp-content/uploads/2024/12/Dansens-Dager-dansen-Silje-25.png
END:VEVENT
BEGIN:VEVENT
DTSTART;TZID=Europe/Oslo:20250205T103000
DTEND;TZID=Europe/Oslo:20250205T120000
DTSTAMP:20260422T121824
CREATED:20241216T140048Z
LAST-MODIFIED:20241120T124358Z
UID:10003411-1738751400-1738756800@proda.no
SUMMARY:Ballett
DESCRIPTION:med Camilla Spidsøe \nBeskrivelse av klasse: \nMin karriere som danser er ekstremt variert og med store kontraster. Hovedfokus er på ballett som min mest brukte teknikk og treningsform \, men sterkt påvirket av min egen personlige stil og signatur som er en fusion av alt jeg har gjort. Selv om jeg har ballett som hoved trening \, er det stort sett moderne dans / samtids dans jeg utfører på scenen. \nFra livet som danser i Carte Blanche i Bergen til å være solist i operaen har det gitt meg så mye erfaring i bevegelses mønster og mine ballettklasser er inspirert av hvordan jeg selv danser på scenen og samtidig med små element av yoga som sniker seg inn mellom øvelser. \nJeg er opptatt av at vi hele tiden får bevege overkropp og armer like mye som bena og fokuserer på hvor langt vår kropp kan gå i forskjellige små og store vinkler og sirkler med våre ledd. For meg er all dans en helhets opplevelse og tilstedeværelse\, hvor jeg inspirerer til å finne kraften og lidenskapen inni oss for så å la det sitre ut av kroppen. Jeg er også nøye med at alle er vi forskjellige i vår fysikk\, og at i stedet for å prøve å kopiere en satt teknikk\, så finner vi vår egen personlige måte å utføre teknikken og bevegelsene. Profesjonelle klasser er spesielt inspirerende for meg \, da jeg kan dele direkte mine erfaringer med dere som også har mye kunnskap. Jeg vil si at klassene mine er veldig fysiske og organiske i sin oppbygging slik at kroppen vår blir åpen og sterk.
URL:https://proda.no/klasse/ballett-75/2025-02-05/
LOCATION:PRODA Oslo\, Marstrandgata 8\, Oslo\, Norge
CATEGORIES:Klasser
ATTACH;FMTTYPE=image/jpeg:https://proda.no/wp-content/uploads/2020/01/camilla-spidsoe_2330.jpg
END:VEVENT
BEGIN:VEVENT
DTSTART;TZID=Europe/Oslo:20250206T100000
DTEND;TZID=Europe/Oslo:20250206T120000
DTSTAMP:20260422T121824
CREATED:20241216T140045Z
LAST-MODIFIED:20241209T130815Z
UID:10003446-1738836000-1738843200@proda.no
SUMMARY:DH workshop med Jassem Hindi
DESCRIPTION:Dansens Hus workshop med Jassem Hindi \nEn danseworkshop som benytter elementer fra prosessen til forestillingen Sun Eaters\, basert på dekonstruerte folkedanser og fordypning i imaginære kroppslige landskap gjennom antydninger og brutte fortellinger. \nDette er inspirert av figurer og folkedanser fra Vest-Asia\, Bretagne og Norge. Workshopen er en improvisasjonsøkt der vi på stedet vil finne opp våre egne personlige folkedanser\, ved hjelp av bevegelsesmateriale og formspråk skapt av gale gjetere\, ensomme skikkelser som danser på toppen av fjell\, midt i skogen\, tigre\, barn og legendariske monstre. Vi vil knurre\, snurre\, krype\, vi vil lage skumle danser. \nSun Eaters spiller på Dansens Hus 21. – 23- februar 2025.\nKoreografen og musikeren Jassem Hindi og billedkunstneren Sina Seifee smelter sammen før-islamsk ikonografi\, vestasiatisk musikk\, Doom Metal og norske folkemelodier for å skape en grusom fortelling: Oljen er en dødelig perle\, et tyktflytende dikt gjemt i en mørk avgrunn. \nSun Eaters er en samtidig folkedans som springer ut fra det intime forholdet mellom oljens mytologiske natur og det tyktflytende mørket som skjuler seg i gamle danser. Den henter inspirasjon fra magisk realisme knyttet til oljen\, til skrekkpoesi og hevndans.\nLes mer om Sun Eaters her. \nIllustrasjon: Wall of archives/Jassem Hindi \nWorkshopen er arrangert i samarbeid med Dansens Hus\, og er endel av Dansens Hus PRO.Dansens Hus PRO er en bransjeklubb for det profesjonelle feltet. Du som er dansekunstner\, dansepedagog eller student får rabatterte billetter og oppdatert informasjon.\nLes mer om Dansens Hus PRO her.
URL:https://proda.no/klasse/dh-workshop-med-jassem-hindi/
LOCATION:PRODA Oslo\, Marstrandgata 8\, Oslo\, Norge
CATEGORIES:Dansens Hus,Workshops
ATTACH;FMTTYPE=image/jpeg:https://proda.no/wp-content/uploads/2024/12/Hindi_wall-of-archives.jpg
END:VEVENT
BEGIN:VEVENT
DTSTART;TZID=Europe/Oslo:20250207T090000
DTEND;TZID=Europe/Oslo:20250207T103000
DTSTAMP:20260422T121824
CREATED:20241216T140029Z
LAST-MODIFIED:20241203T155536Z
UID:10003421-1738918800-1738924200@proda.no
SUMMARY:Musikaljazz
DESCRIPTION:med Simon Stenholm Söderlund \nSimon sier om klassene sine: \nI min undervisning er musikalitet\, dynamikker og teknikk satt i fokus. Jeg jobber utifra oppvarming med utgangspunkt i før nevnte elementer etterfulgt av across-the-floor øvelser\, for å avslutte med en kombinasjon. Lang oppvarming og øvelser gis god plass i klassene mine\, fremfor lange innlæringer av koreografi.\nUtover de mere klassiske fokus punktene legger jeg stor vekt på Active Choices for å oppnå fremgang og skape et rom hvor vi kan utvikle os mest effektivt. Egoet må legges bort så nysgjerrigheten\, uten judgement\, kan få plass. \n  \nFoto: Serine Drejer \n 
URL:https://proda.no/klasse/musikaljazz/2025-02-07/
LOCATION:PRODA Oslo\, Marstrandgata 8\, Oslo\, Norge
CATEGORIES:Klasser
ATTACH;FMTTYPE=image/jpeg:https://proda.no/wp-content/uploads/2024/12/Simon-Soderlund_Serine-Drejer--scaled.jpeg
END:VEVENT
BEGIN:VEVENT
DTSTART;TZID=Europe/Oslo:20250207T103000
DTEND;TZID=Europe/Oslo:20250207T120000
DTSTAMP:20260422T121824
CREATED:20241216T140048Z
LAST-MODIFIED:20241120T124358Z
UID:10003412-1738924200-1738929600@proda.no
SUMMARY:Ballett
DESCRIPTION:med Camilla Spidsøe \nBeskrivelse av klasse: \nMin karriere som danser er ekstremt variert og med store kontraster. Hovedfokus er på ballett som min mest brukte teknikk og treningsform \, men sterkt påvirket av min egen personlige stil og signatur som er en fusion av alt jeg har gjort. Selv om jeg har ballett som hoved trening \, er det stort sett moderne dans / samtids dans jeg utfører på scenen. \nFra livet som danser i Carte Blanche i Bergen til å være solist i operaen har det gitt meg så mye erfaring i bevegelses mønster og mine ballettklasser er inspirert av hvordan jeg selv danser på scenen og samtidig med små element av yoga som sniker seg inn mellom øvelser. \nJeg er opptatt av at vi hele tiden får bevege overkropp og armer like mye som bena og fokuserer på hvor langt vår kropp kan gå i forskjellige små og store vinkler og sirkler med våre ledd. For meg er all dans en helhets opplevelse og tilstedeværelse\, hvor jeg inspirerer til å finne kraften og lidenskapen inni oss for så å la det sitre ut av kroppen. Jeg er også nøye med at alle er vi forskjellige i vår fysikk\, og at i stedet for å prøve å kopiere en satt teknikk\, så finner vi vår egen personlige måte å utføre teknikken og bevegelsene. Profesjonelle klasser er spesielt inspirerende for meg \, da jeg kan dele direkte mine erfaringer med dere som også har mye kunnskap. Jeg vil si at klassene mine er veldig fysiske og organiske i sin oppbygging slik at kroppen vår blir åpen og sterk.
URL:https://proda.no/klasse/ballett-75/2025-02-07/
LOCATION:PRODA Oslo\, Marstrandgata 8\, Oslo\, Norge
CATEGORIES:Klasser
ATTACH;FMTTYPE=image/jpeg:https://proda.no/wp-content/uploads/2020/01/camilla-spidsoe_2330.jpg
END:VEVENT
END:VCALENDAR