BEGIN:VCALENDAR
VERSION:2.0
PRODID:-//PRODA - ECPv6.15.13.1//NONSGML v1.0//EN
CALSCALE:GREGORIAN
METHOD:PUBLISH
X-WR-CALNAME:PRODA
X-ORIGINAL-URL:https://proda.no
X-WR-CALDESC:Arrangement for PRODA
REFRESH-INTERVAL;VALUE=DURATION:PT1H
X-Robots-Tag:noindex
X-PUBLISHED-TTL:PT1H
BEGIN:VTIMEZONE
TZID:Europe/Oslo
BEGIN:DAYLIGHT
TZOFFSETFROM:+0100
TZOFFSETTO:+0200
TZNAME:CEST
DTSTART:20210328T010000
END:DAYLIGHT
BEGIN:STANDARD
TZOFFSETFROM:+0200
TZOFFSETTO:+0100
TZNAME:CET
DTSTART:20211031T010000
END:STANDARD
BEGIN:DAYLIGHT
TZOFFSETFROM:+0100
TZOFFSETTO:+0200
TZNAME:CEST
DTSTART:20220327T010000
END:DAYLIGHT
BEGIN:STANDARD
TZOFFSETFROM:+0200
TZOFFSETTO:+0100
TZNAME:CET
DTSTART:20221030T010000
END:STANDARD
BEGIN:DAYLIGHT
TZOFFSETFROM:+0100
TZOFFSETTO:+0200
TZNAME:CEST
DTSTART:20230326T010000
END:DAYLIGHT
BEGIN:STANDARD
TZOFFSETFROM:+0200
TZOFFSETTO:+0100
TZNAME:CET
DTSTART:20231029T010000
END:STANDARD
END:VTIMEZONE
BEGIN:VEVENT
DTSTART;TZID=Europe/Oslo:20221031T103000
DTEND;TZID=Europe/Oslo:20221031T120000
DTSTAMP:20260420T033350
CREATED:20220624T060017Z
LAST-MODIFIED:20220905T095328Z
UID:10002355-1667212200-1667217600@proda.no
SUMMARY:Ballett
DESCRIPTION:med Kristian Alm. \nBeskrivelse av klasse:\nKristian sine klasser fokuserer på dynamikk\, flyt og forflytting i rommet. Barren er logisk og relativ enkel\, og i senter er det fokus på å danse stort og dynamisk. Klassene har som mål at danserne skal få beveget mest mulig på seg\, og få repetert øvelser flere ganger.
URL:https://proda.no/klasse/ballett-46/2022-10-31/
LOCATION:PRODA Oslo\, Marstrandgata 8\, Oslo\, Norge
CATEGORIES:Klasser
ATTACH;FMTTYPE=image/jpeg:https://proda.no/wp-content/uploads/2020/01/kristian_alm_5306.jpg
END:VEVENT
BEGIN:VEVENT
DTSTART;TZID=Europe/Oslo:20221101T090000
DTEND;TZID=Europe/Oslo:20221101T103000
DTSTAMP:20260420T033350
CREATED:20220624T060010Z
LAST-MODIFIED:20220803T114532Z
UID:10002335-1667293200-1667298600@proda.no
SUMMARY:Samtidsdans
DESCRIPTION:med Anne-Linn Akselsen. \nBeskrivelse av klasse:\nDenne samtidsdansklassen er basert på prinsipper fra release teknikk. Vi ser på\nhvordan tyngdekraften påvirker kroppen i bevegelse\, med fokus på plassering og\nanatomisk bevissthet. Klassen ønsker å skape rom for observasjon og analyse som\nkan gi større kroppslig bevissthet. Gjennom bruken av tyngdekraften\, kroppens\narkitektur i rommet\, og grunnleggende tekniske elementer som fall\, fraskyv og\nforlengelse\, møter vi dansen.\nVi jobber for å finne frihet i form\, å forstå bruken av energi versus spenning\, og tar\nhjelp av ulike tilstander\, kroppens kontakt med gulvet\, svingninger\, spiraler\,\nkroppens egenvekt\, og artikulasjon for å skape og videreføre bevegelse i rommet.\nKlassen inneholder både åpne og spesifikke improvisasjonsøvelser\, enkle\noppvarmingsøvelser\, klassiske releaseteknikk øvelser og frasemateriale.\nVel møtt!
URL:https://proda.no/klasse/samtidsdans-18/2022-11-01/
LOCATION:PRODA Oslo\, Marstrandgata 8\, Oslo\, Norge
CATEGORIES:Klasser
ATTACH;FMTTYPE=image/jpeg:https://proda.no/wp-content/uploads/2022/06/anne-linn_akselsen.jpeg
END:VEVENT
BEGIN:VEVENT
DTSTART;TZID=Europe/Oslo:20221101T103000
DTEND;TZID=Europe/Oslo:20221101T120000
DTSTAMP:20260420T033350
CREATED:20220812T141408Z
LAST-MODIFIED:20220812T142151Z
UID:10001917-1667298600-1667304000@proda.no
SUMMARY:Hiphop
DESCRIPTION:med Marikken Heitkøtter Bratlie \nBeskrivelse av klasse:\nWorkshopene vil bestå av ulike grunnleggende teknikker og verktøy innen Hiphopdans. Vi fokuserer på ulike grooves\, footwork\, isolasjoner og musikalitet. Vi jobber med å anvende de ulike teknikkene i freestyle både i egen kropp og med hverandre.\n\nFoto: Saona Puth
URL:https://proda.no/klasse/hiphop/2022-11-01/
LOCATION:PRODA Oslo\, Marstrandgata 8\, Oslo\, Norge
CATEGORIES:Klasser
ATTACH;FMTTYPE=image/jpeg:https://proda.no/wp-content/uploads/2022/08/portrett3-scaled.jpg
END:VEVENT
BEGIN:VEVENT
DTSTART;TZID=Europe/Oslo:20221102T103000
DTEND;TZID=Europe/Oslo:20221102T120000
DTSTAMP:20260420T033350
CREATED:20220624T060020Z
LAST-MODIFIED:20220623T080431Z
UID:10002368-1667385000-1667390400@proda.no
SUMMARY:Waacking
DESCRIPTION:med Ida Louise Sundby. \nBeskrivelse av klasse:\nI workshopene går vi gjennom de grunnleggende elementene: punking (intensjon/historiefortelling)\, poses og whack/waacking (armer) og jobber med å inkorperere det i kroppen og i kombinasjon med hverandre og resten av kroppen. I tillegg fokuserer vi på funk og groove i kroppen\, musikalitet og det sosiale aspektet av dansen.
URL:https://proda.no/klasse/waacking-2/2022-11-02/
LOCATION:PRODA Oslo\, Marstrandgata 8\, Oslo\, Norge
CATEGORIES:Klasser
ATTACH;FMTTYPE=image/jpeg:https://proda.no/wp-content/uploads/2018/08/ida-louise-sundby-scaled.jpg
END:VEVENT
BEGIN:VEVENT
DTSTART;TZID=Europe/Oslo:20221103T090000
DTEND;TZID=Europe/Oslo:20221103T103000
DTSTAMP:20260420T033350
CREATED:20220624T060010Z
LAST-MODIFIED:20220803T114532Z
UID:10002336-1667466000-1667471400@proda.no
SUMMARY:Samtidsdans
DESCRIPTION:med Anne-Linn Akselsen. \nBeskrivelse av klasse:\nDenne samtidsdansklassen er basert på prinsipper fra release teknikk. Vi ser på\nhvordan tyngdekraften påvirker kroppen i bevegelse\, med fokus på plassering og\nanatomisk bevissthet. Klassen ønsker å skape rom for observasjon og analyse som\nkan gi større kroppslig bevissthet. Gjennom bruken av tyngdekraften\, kroppens\narkitektur i rommet\, og grunnleggende tekniske elementer som fall\, fraskyv og\nforlengelse\, møter vi dansen.\nVi jobber for å finne frihet i form\, å forstå bruken av energi versus spenning\, og tar\nhjelp av ulike tilstander\, kroppens kontakt med gulvet\, svingninger\, spiraler\,\nkroppens egenvekt\, og artikulasjon for å skape og videreføre bevegelse i rommet.\nKlassen inneholder både åpne og spesifikke improvisasjonsøvelser\, enkle\noppvarmingsøvelser\, klassiske releaseteknikk øvelser og frasemateriale.\nVel møtt!
URL:https://proda.no/klasse/samtidsdans-18/2022-11-03/
LOCATION:PRODA Oslo\, Marstrandgata 8\, Oslo\, Norge
CATEGORIES:Klasser
ATTACH;FMTTYPE=image/jpeg:https://proda.no/wp-content/uploads/2022/06/anne-linn_akselsen.jpeg
END:VEVENT
BEGIN:VEVENT
DTSTART;TZID=Europe/Oslo:20221104T090000
DTEND;TZID=Europe/Oslo:20221104T103000
DTSTAMP:20260420T033350
CREATED:20220822T081004Z
LAST-MODIFIED:20220822T083218Z
UID:10001936-1667552400-1667557800@proda.no
SUMMARY:Musikaldans
DESCRIPTION:with Kirsty McDonald \nDescription of classes:\nClasses will consist of a short Westend style cardio warm up\, strength exercises and some corner work. The main focus will be on the choreography. Concentrating on dynamics and creative expression. Most likely to be full of energy and more importantly a chance to leave janteloven at the door and hopefully have a lot of fun in the process! \n  \nPhoto: Alan Byland
URL:https://proda.no/klasse/musikaldans-6/2022-11-04/
LOCATION:PRODA Oslo\, Marstrandgata 8\, Oslo\, Norge
CATEGORIES:Klasser
ATTACH;FMTTYPE=image/jpeg:https://proda.no/wp-content/uploads/2022/08/Kirsty-McDonald_Foto_Alan-Byland-1-scaled.jpeg
END:VEVENT
BEGIN:VEVENT
DTSTART;TZID=Europe/Oslo:20221104T103000
DTEND;TZID=Europe/Oslo:20221104T120000
DTSTAMP:20260420T033350
CREATED:20220624T060005Z
LAST-MODIFIED:20221024T143929Z
UID:10002330-1667557800-1667563200@proda.no
SUMMARY:Ballett
DESCRIPTION:with Daniel Proietto. \nAbout the classes: \nI see no difference or boundaries between dance styles or any other physical techniques. To me\, they all deal with the understanding of movement dynamics as a mean of expression and communication. So first of all\, I will encourage the dancers to think holistically and not stylistically about this class or their careers for that matter. \nThroughout the class we will focus on sequencing flow\, transitions\, textures and the dynamic interplay of gravity. We will also use martial arts and anatomy concepts applied to ballet. I will also remind the dancers to focus on the intention behind their movements\, to use the expressive power of the eyes and the sculpted body. \nThe goal of the class is to enhance the virtuosic and athletic aspects of movement with a sense of gestural ease and high-performance precision – allowing the body to become hyperaware and present to be able to perform demanding quality work. \nPhoto: Elliott Franks \n 
URL:https://proda.no/klasse/ballett-45/2022-11-04/
LOCATION:PRODA Oslo\, Marstrandgata 8\, Oslo\, Norge
CATEGORIES:Klasser
ATTACH;FMTTYPE=image/jpeg:https://proda.no/wp-content/uploads/2022/06/Proietto_AfterLight_Foto_Elliott-Franks.jpeg
END:VEVENT
END:VCALENDAR