BEGIN:VCALENDAR
VERSION:2.0
PRODID:-//PRODA - ECPv6.15.13.1//NONSGML v1.0//EN
CALSCALE:GREGORIAN
METHOD:PUBLISH
X-WR-CALNAME:PRODA
X-ORIGINAL-URL:https://proda.no
X-WR-CALDESC:Arrangement for PRODA
REFRESH-INTERVAL;VALUE=DURATION:PT1H
X-Robots-Tag:noindex
X-PUBLISHED-TTL:PT1H
BEGIN:VTIMEZONE
TZID:Europe/Oslo
BEGIN:DAYLIGHT
TZOFFSETFROM:+0100
TZOFFSETTO:+0200
TZNAME:CEST
DTSTART:20200329T010000
END:DAYLIGHT
BEGIN:STANDARD
TZOFFSETFROM:+0200
TZOFFSETTO:+0100
TZNAME:CET
DTSTART:20201025T010000
END:STANDARD
BEGIN:DAYLIGHT
TZOFFSETFROM:+0100
TZOFFSETTO:+0200
TZNAME:CEST
DTSTART:20210328T010000
END:DAYLIGHT
BEGIN:STANDARD
TZOFFSETFROM:+0200
TZOFFSETTO:+0100
TZNAME:CET
DTSTART:20211031T010000
END:STANDARD
BEGIN:DAYLIGHT
TZOFFSETFROM:+0100
TZOFFSETTO:+0200
TZNAME:CEST
DTSTART:20220327T010000
END:DAYLIGHT
BEGIN:STANDARD
TZOFFSETFROM:+0200
TZOFFSETTO:+0100
TZNAME:CET
DTSTART:20221030T010000
END:STANDARD
END:VTIMEZONE
BEGIN:VEVENT
DTSTART;TZID=Europe/Oslo:20210906T093000
DTEND;TZID=Europe/Oslo:20210906T113000
DTSTAMP:20260422T140707
CREATED:20210622T120610Z
LAST-MODIFIED:20210706T151448Z
UID:10001585-1630920600-1630927800@proda.no
SUMMARY:Workshop koreografi
DESCRIPTION:med Ulf Nilseng.
URL:https://proda.no/klasse/workshop-koreografi-2/2021-09-06/
LOCATION:PRODA Oslo\, Marstrandgata 8\, Oslo\, Norge
CATEGORIES:Workshops
ATTACH;FMTTYPE=image/jpeg:https://proda.no/wp-content/uploads/2018/01/ulf-nilseng.jpg
END:VEVENT
BEGIN:VEVENT
DTSTART;TZID=Europe/Oslo:20210907T103000
DTEND;TZID=Europe/Oslo:20210907T120000
DTSTAMP:20260422T140707
CREATED:20210728T101456Z
LAST-MODIFIED:20210802T074100Z
UID:10002183-1631010600-1631016000@proda.no
SUMMARY:Contemporary Jazz
DESCRIPTION:med Caroline Skjørshammer.
URL:https://proda.no/klasse/contemporary-jazz/2021-09-07/
LOCATION:PRODA Oslo\, Marstrandgata 8\, Oslo\, Norge
CATEGORIES:Klasser
ATTACH;FMTTYPE=image/jpeg:https://proda.no/wp-content/uploads/2013/01/caro-bilde-e1627978815903.jpeg
END:VEVENT
BEGIN:VEVENT
DTSTART;TZID=Europe/Oslo:20210908T093000
DTEND;TZID=Europe/Oslo:20210908T113000
DTSTAMP:20260422T140707
CREATED:20210622T120610Z
LAST-MODIFIED:20210706T151448Z
UID:10001586-1631093400-1631100600@proda.no
SUMMARY:Workshop koreografi
DESCRIPTION:med Ulf Nilseng.
URL:https://proda.no/klasse/workshop-koreografi-2/2021-09-08/
LOCATION:PRODA Oslo\, Marstrandgata 8\, Oslo\, Norge
CATEGORIES:Workshops
ATTACH;FMTTYPE=image/jpeg:https://proda.no/wp-content/uploads/2018/01/ulf-nilseng.jpg
END:VEVENT
BEGIN:VEVENT
DTSTART;TZID=Europe/Oslo:20210909T103000
DTEND;TZID=Europe/Oslo:20210909T120000
DTSTAMP:20260422T140707
CREATED:20210728T101456Z
LAST-MODIFIED:20210802T074100Z
UID:10002184-1631183400-1631188800@proda.no
SUMMARY:Contemporary Jazz
DESCRIPTION:med Caroline Skjørshammer.
URL:https://proda.no/klasse/contemporary-jazz/2021-09-09/
LOCATION:PRODA Oslo\, Marstrandgata 8\, Oslo\, Norge
CATEGORIES:Klasser
ATTACH;FMTTYPE=image/jpeg:https://proda.no/wp-content/uploads/2013/01/caro-bilde-e1627978815903.jpeg
END:VEVENT
BEGIN:VEVENT
DTSTART;TZID=Europe/Oslo:20210910T103000
DTEND;TZID=Europe/Oslo:20210910T120000
DTSTAMP:20260422T140707
CREATED:20210622T120636Z
LAST-MODIFIED:20210706T151619Z
UID:10002135-1631269800-1631275200@proda.no
SUMMARY:Ballett
DESCRIPTION:med Kristian Alm.
URL:https://proda.no/klasse/ballett-26/
LOCATION:PRODA Oslo\, Marstrandgata 8\, Oslo\, Norge
CATEGORIES:Klasser
END:VEVENT
END:VCALENDAR