BEGIN:VCALENDAR
VERSION:2.0
PRODID:-//PRODA - ECPv6.15.13.1//NONSGML v1.0//EN
CALSCALE:GREGORIAN
METHOD:PUBLISH
X-ORIGINAL-URL:https://proda.no
X-WR-CALDESC:Arrangement for PRODA
REFRESH-INTERVAL;VALUE=DURATION:PT1H
X-Robots-Tag:noindex
X-PUBLISHED-TTL:PT1H
BEGIN:VTIMEZONE
TZID:Europe/Oslo
BEGIN:DAYLIGHT
TZOFFSETFROM:+0100
TZOFFSETTO:+0200
TZNAME:CEST
DTSTART:20240331T010000
END:DAYLIGHT
BEGIN:STANDARD
TZOFFSETFROM:+0200
TZOFFSETTO:+0100
TZNAME:CET
DTSTART:20241027T010000
END:STANDARD
BEGIN:DAYLIGHT
TZOFFSETFROM:+0100
TZOFFSETTO:+0200
TZNAME:CEST
DTSTART:20250330T010000
END:DAYLIGHT
BEGIN:STANDARD
TZOFFSETFROM:+0200
TZOFFSETTO:+0100
TZNAME:CET
DTSTART:20251026T010000
END:STANDARD
BEGIN:DAYLIGHT
TZOFFSETFROM:+0100
TZOFFSETTO:+0200
TZNAME:CEST
DTSTART:20260329T010000
END:DAYLIGHT
BEGIN:STANDARD
TZOFFSETFROM:+0200
TZOFFSETTO:+0100
TZNAME:CET
DTSTART:20261025T010000
END:STANDARD
END:VTIMEZONE
BEGIN:VEVENT
DTSTART;TZID=Europe/Oslo:20250826T103000
DTEND;TZID=Europe/Oslo:20250826T120000
DTSTAMP:20260421T003609
CREATED:20250616T100002Z
LAST-MODIFIED:20250604T115738Z
UID:10003756-1756204200-1756209600@proda.no
SUMMARY:Samtidsjazz
DESCRIPTION:med Caroline Skjørshammer \nKlassebeskrivelse:\nVi starter klassen med å sjekke inn med kroppen\, hverandre\, musikken og rommet\, før vi går over i en lengre oppvarming. Her kombinerer jeg enkle og velkjente baner og former\, med invitasjoner til å utforske og følge egne behov og interesser. Resten av timen går med til å jobbe med en koreografi og hvordan den kan få ulike særpreg. Vi runder av med en avspenning og sjekk-ut. Klassen er lagt til rette for at det skal være lett å kaste seg med uavhengig av tidligere erfaring\, og det er ny koreografi hver gang. \nFoto: Spencer Lookabough
URL:https://proda.no/klasse/samtidsjazz-2/2025-08-26/
LOCATION:PRODA Oslo\, Marstrandgata 8\, Oslo\, Norge
CATEGORIES:Klasser
ATTACH;FMTTYPE=image/jpeg:https://proda.no/wp-content/uploads/2013/01/IMG_3330-scaled.jpg
END:VEVENT
END:VCALENDAR