BEGIN:VCALENDAR
VERSION:2.0
PRODID:-//PRODA - ECPv6.15.13.1//NONSGML v1.0//EN
CALSCALE:GREGORIAN
METHOD:PUBLISH
X-WR-CALNAME:PRODA
X-ORIGINAL-URL:https://proda.no
X-WR-CALDESC:Arrangement for PRODA
REFRESH-INTERVAL;VALUE=DURATION:PT1H
X-Robots-Tag:noindex
X-PUBLISHED-TTL:PT1H
BEGIN:VTIMEZONE
TZID:Europe/Oslo
BEGIN:DAYLIGHT
TZOFFSETFROM:+0100
TZOFFSETTO:+0200
TZNAME:CEST
DTSTART:20220327T010000
END:DAYLIGHT
BEGIN:STANDARD
TZOFFSETFROM:+0200
TZOFFSETTO:+0100
TZNAME:CET
DTSTART:20221030T010000
END:STANDARD
BEGIN:DAYLIGHT
TZOFFSETFROM:+0100
TZOFFSETTO:+0200
TZNAME:CEST
DTSTART:20230326T010000
END:DAYLIGHT
BEGIN:STANDARD
TZOFFSETFROM:+0200
TZOFFSETTO:+0100
TZNAME:CET
DTSTART:20231029T010000
END:STANDARD
BEGIN:DAYLIGHT
TZOFFSETFROM:+0100
TZOFFSETTO:+0200
TZNAME:CEST
DTSTART:20240331T010000
END:DAYLIGHT
BEGIN:STANDARD
TZOFFSETFROM:+0200
TZOFFSETTO:+0100
TZNAME:CET
DTSTART:20241027T010000
END:STANDARD
END:VTIMEZONE
BEGIN:VEVENT
DTSTART;TZID=Europe/Oslo:20230601T090000
DTEND;TZID=Europe/Oslo:20230601T103000
DTSTAMP:20260421T104307
CREATED:20221215T115832Z
LAST-MODIFIED:20221231T115103Z
UID:10002436-1685610000-1685615400@proda.no
SUMMARY:Samtidsdans
DESCRIPTION:med Kenneth Bruun Carlson \n  \nBeskrivelse av klassen: \nKlassen er tredelt. \ni    OPPVARMING\nOppvarmingen skjer i sirkel og er en serie med foreslåtte øvelser med fokus på knokler\, muskler og den sansende kroppen \nii   DAGENS PRAKSIS\nPraksisen varierer og endrer seg\, og kan påvirkes av gruppa. Det handler om å skape bevegelse som ikke tar utgangspunkt i en gitt form. Utgangspunktet for å skape bevegelse kan være alt fra blikket\, spiserør/svelg\, hverdagslige gester\, poesi\, rommet ++ \niii  KOREOGRAFI\nKoreografi handler om å skape noe basert på klassens innhold. Det kan være en kort gitt frase som forandres ved hjelp av dagens praksis\, eller en koreografisk tilnærming og videreutvikling av det vi har jobbet med i klassen. \n  \nFoto: Janne Amalie Svit
URL:https://proda.no/klasse/samtidsdans-24/2023-06-01/
LOCATION:PRODA Oslo\, Marstrandgata 8\, Oslo\, Norge
CATEGORIES:Klasser
ATTACH;FMTTYPE=image/jpeg:https://proda.no/wp-content/uploads/2022/12/Kenneth-Bruun-Carlson_Janne-Amalie-Svit.jpeg
END:VEVENT
END:VCALENDAR