BEGIN:VCALENDAR
VERSION:2.0
PRODID:-//PRODA - ECPv6.15.13.1//NONSGML v1.0//EN
CALSCALE:GREGORIAN
METHOD:PUBLISH
X-WR-CALNAME:PRODA
X-ORIGINAL-URL:https://proda.no
X-WR-CALDESC:Arrangement for PRODA
REFRESH-INTERVAL;VALUE=DURATION:PT1H
X-Robots-Tag:noindex
X-PUBLISHED-TTL:PT1H
BEGIN:VTIMEZONE
TZID:Europe/Oslo
BEGIN:DAYLIGHT
TZOFFSETFROM:+0100
TZOFFSETTO:+0200
TZNAME:CEST
DTSTART:20220327T010000
END:DAYLIGHT
BEGIN:STANDARD
TZOFFSETFROM:+0200
TZOFFSETTO:+0100
TZNAME:CET
DTSTART:20221030T010000
END:STANDARD
BEGIN:DAYLIGHT
TZOFFSETFROM:+0100
TZOFFSETTO:+0200
TZNAME:CEST
DTSTART:20230326T010000
END:DAYLIGHT
BEGIN:STANDARD
TZOFFSETFROM:+0200
TZOFFSETTO:+0100
TZNAME:CET
DTSTART:20231029T010000
END:STANDARD
BEGIN:DAYLIGHT
TZOFFSETFROM:+0100
TZOFFSETTO:+0200
TZNAME:CEST
DTSTART:20240331T010000
END:DAYLIGHT
BEGIN:STANDARD
TZOFFSETFROM:+0200
TZOFFSETTO:+0100
TZNAME:CET
DTSTART:20241027T010000
END:STANDARD
END:VTIMEZONE
BEGIN:VEVENT
DTSTART;TZID=Europe/Oslo:20230413T090000
DTEND;TZID=Europe/Oslo:20230413T103000
DTSTAMP:20260419T162206
CREATED:20221215T121531Z
LAST-MODIFIED:20221215T120748Z
UID:10002488-1681376400-1681381800@proda.no
SUMMARY:Samtidsdans
DESCRIPTION:med Dimitri Jourde \nMed bakgrunn i sirkus og omfattende internasjonale arbeide med dans underviser Dimitri klasser som fokuserer på gulvarbeid med oppvarming for å forberede kroppen for dette arbeidet. \nDimitri har blant annet hatt lange og flerårige samarbeid med  kompanier /koreografer som François Verret\, Zero Visibility Corp\,  Yoann Bourgeois\, Sidi Larbi Cherkaoui og Martin Zimmerman.
URL:https://proda.no/klasse/samtidsdans-22/2023-04-13/
LOCATION:PRODA Oslo\, Marstrandgata 8\, Oslo\, Norge
CATEGORIES:Klasser
ATTACH;FMTTYPE=image/jpeg:https://proda.no/wp-content/uploads/2022/12/Dimitri-Jourde-scaled.jpg
END:VEVENT
END:VCALENDAR