BEGIN:VCALENDAR
VERSION:2.0
PRODID:-//PRODA - ECPv6.15.13.1//NONSGML v1.0//EN
CALSCALE:GREGORIAN
METHOD:PUBLISH
X-ORIGINAL-URL:https://proda.no
X-WR-CALDESC:Arrangement for PRODA
REFRESH-INTERVAL;VALUE=DURATION:PT1H
X-Robots-Tag:noindex
X-PUBLISHED-TTL:PT1H
BEGIN:VTIMEZONE
TZID:Europe/Oslo
BEGIN:DAYLIGHT
TZOFFSETFROM:+0100
TZOFFSETTO:+0200
TZNAME:CEST
DTSTART:20210328T010000
END:DAYLIGHT
BEGIN:STANDARD
TZOFFSETFROM:+0200
TZOFFSETTO:+0100
TZNAME:CET
DTSTART:20211031T010000
END:STANDARD
BEGIN:DAYLIGHT
TZOFFSETFROM:+0100
TZOFFSETTO:+0200
TZNAME:CEST
DTSTART:20220327T010000
END:DAYLIGHT
BEGIN:STANDARD
TZOFFSETFROM:+0200
TZOFFSETTO:+0100
TZNAME:CET
DTSTART:20221030T010000
END:STANDARD
BEGIN:DAYLIGHT
TZOFFSETFROM:+0100
TZOFFSETTO:+0200
TZNAME:CEST
DTSTART:20230326T010000
END:DAYLIGHT
BEGIN:STANDARD
TZOFFSETFROM:+0200
TZOFFSETTO:+0100
TZNAME:CET
DTSTART:20231029T010000
END:STANDARD
END:VTIMEZONE
BEGIN:VEVENT
DTSTART;TZID=Europe/Oslo:20221028T100000
DTEND;TZID=Europe/Oslo:20221028T113000
DTSTAMP:20260420T094538
CREATED:20220812T141408Z
LAST-MODIFIED:20220812T142151Z
UID:10001916-1666951200-1666956600@proda.no
SUMMARY:Hiphop
DESCRIPTION:med Marikken Heitkøtter Bratlie \nBeskrivelse av klasse:\nWorkshopene vil bestå av ulike grunnleggende teknikker og verktøy innen Hiphopdans. Vi fokuserer på ulike grooves\, footwork\, isolasjoner og musikalitet. Vi jobber med å anvende de ulike teknikkene i freestyle både i egen kropp og med hverandre.\n\nFoto: Saona Puth
URL:https://proda.no/klasse/hiphop/2022-10-28/
LOCATION:PRODA Oslo\, Marstrandgata 8\, Oslo\, Norge
CATEGORIES:Klasser
ATTACH;FMTTYPE=image/jpeg:https://proda.no/wp-content/uploads/2022/08/portrett3-scaled.jpg
END:VEVENT
END:VCALENDAR