BEGIN:VCALENDAR
VERSION:2.0
PRODID:-//PRODA - ECPv6.15.13.1//NONSGML v1.0//EN
CALSCALE:GREGORIAN
METHOD:PUBLISH
X-ORIGINAL-URL:https://proda.no
X-WR-CALDESC:Arrangement for PRODA
REFRESH-INTERVAL;VALUE=DURATION:PT1H
X-Robots-Tag:noindex
X-PUBLISHED-TTL:PT1H
BEGIN:VTIMEZONE
TZID:Europe/Oslo
BEGIN:DAYLIGHT
TZOFFSETFROM:+0100
TZOFFSETTO:+0200
TZNAME:CEST
DTSTART:20210328T010000
END:DAYLIGHT
BEGIN:STANDARD
TZOFFSETFROM:+0200
TZOFFSETTO:+0100
TZNAME:CET
DTSTART:20211031T010000
END:STANDARD
BEGIN:DAYLIGHT
TZOFFSETFROM:+0100
TZOFFSETTO:+0200
TZNAME:CEST
DTSTART:20220327T010000
END:DAYLIGHT
BEGIN:STANDARD
TZOFFSETFROM:+0200
TZOFFSETTO:+0100
TZNAME:CET
DTSTART:20221030T010000
END:STANDARD
BEGIN:DAYLIGHT
TZOFFSETFROM:+0100
TZOFFSETTO:+0200
TZNAME:CEST
DTSTART:20230326T010000
END:DAYLIGHT
BEGIN:STANDARD
TZOFFSETFROM:+0200
TZOFFSETTO:+0100
TZNAME:CET
DTSTART:20231029T010000
END:STANDARD
END:VTIMEZONE
BEGIN:VEVENT
DTSTART;TZID=Europe/Oslo:20220601T090000
DTEND;TZID=Europe/Oslo:20220601T103000
DTSTAMP:20260420T064658
CREATED:20211217T073710Z
LAST-MODIFIED:20220525T064954Z
UID:10002253-1654074000-1654079400@proda.no
SUMMARY:Contemporary Fusion
DESCRIPTION:med WALK Dance Company. \nBeskrivelse av klasse:\nI klassene vil Ludvig Herstad dele praksis med hvordan WALK arbeider. Klassen vil inneholde improvisasjonsøvelser og en kombinasjon. WALK prøver å flytte grenser på tvers av dansestiler med mål om å fremheve det fortellende og musikalske i dansekunsten. \nKlassene arrangeres i forbindelse med Spin Off sitt 20-årsjubileum.
URL:https://proda.no/klasse/contemporary-fusion/2022-06-01/
LOCATION:PRODA Oslo\, Marstrandgata 8\, Oslo\, Norge
CATEGORIES:Klasser
ATTACH;FMTTYPE=image/jpeg:https://proda.no/wp-content/uploads/2022/01/Walk-oppdatering-20-sept_36-scaled.jpg
END:VEVENT
END:VCALENDAR