BEGIN:VCALENDAR
VERSION:2.0
PRODID:-//PRODA - ECPv6.15.13.1//NONSGML v1.0//EN
CALSCALE:GREGORIAN
METHOD:PUBLISH
X-ORIGINAL-URL:https://proda.no
X-WR-CALDESC:Arrangement for PRODA
REFRESH-INTERVAL;VALUE=DURATION:PT1H
X-Robots-Tag:noindex
X-PUBLISHED-TTL:PT1H
BEGIN:VTIMEZONE
TZID:Europe/Oslo
BEGIN:DAYLIGHT
TZOFFSETFROM:+0100
TZOFFSETTO:+0200
TZNAME:CEST
DTSTART:20210328T010000
END:DAYLIGHT
BEGIN:STANDARD
TZOFFSETFROM:+0200
TZOFFSETTO:+0100
TZNAME:CET
DTSTART:20211031T010000
END:STANDARD
BEGIN:DAYLIGHT
TZOFFSETFROM:+0100
TZOFFSETTO:+0200
TZNAME:CEST
DTSTART:20220327T010000
END:DAYLIGHT
BEGIN:STANDARD
TZOFFSETFROM:+0200
TZOFFSETTO:+0100
TZNAME:CET
DTSTART:20221030T010000
END:STANDARD
BEGIN:DAYLIGHT
TZOFFSETFROM:+0100
TZOFFSETTO:+0200
TZNAME:CEST
DTSTART:20230326T010000
END:DAYLIGHT
BEGIN:STANDARD
TZOFFSETFROM:+0200
TZOFFSETTO:+0100
TZNAME:CET
DTSTART:20231029T010000
END:STANDARD
END:VTIMEZONE
BEGIN:VEVENT
DTSTART;TZID=Europe/Oslo:20220201T093000
DTEND;TZID=Europe/Oslo:20220201T113000
DTSTAMP:20260421T010634
CREATED:20211217T070728Z
LAST-MODIFIED:20220104T075855Z
UID:10002227-1643707800-1643715000@proda.no
SUMMARY:Workshop koreografi (NB. Krever påmelding!)
DESCRIPTION:med Harald Beharie. \nPåmelding:\nhttps://forms.gle/Lm3opJohc2sF3RKv5 \nBeskrivelse av workshopen:\nWorkshopen vil basere seg på prinsipper og metoder som Harald har brukt i prosessen med sitt arbeid Batty Bwoy som vises på Dansens Hus i Januar. Sammen vil vi arbeide med ulike improvisatoriske øvelser og motivasjoner. Samt åpne et rom for refleksjoner rundt gleder\, tvil og koreografiske verktøy for arbeid i soloformat.
URL:https://proda.no/klasse/workshop-koreografi-3/2022-02-01/
LOCATION:PRODA Oslo\, Marstrandgata 8\, Oslo\, Norge
CATEGORIES:Workshops
ATTACH;FMTTYPE=image/png:https://proda.no/wp-content/uploads/2021/02/Skjermbilde-2020-09-01-kl.-10.36.08.png
END:VEVENT
END:VCALENDAR