BEGIN:VCALENDAR
VERSION:2.0
PRODID:-//PRODA - ECPv6.15.13.1//NONSGML v1.0//EN
CALSCALE:GREGORIAN
METHOD:PUBLISH
X-ORIGINAL-URL:https://proda.no
X-WR-CALDESC:Arrangement for PRODA
REFRESH-INTERVAL;VALUE=DURATION:PT1H
X-Robots-Tag:noindex
X-PUBLISHED-TTL:PT1H
BEGIN:VTIMEZONE
TZID:Europe/Oslo
BEGIN:DAYLIGHT
TZOFFSETFROM:+0100
TZOFFSETTO:+0200
TZNAME:CEST
DTSTART:20200329T010000
END:DAYLIGHT
BEGIN:STANDARD
TZOFFSETFROM:+0200
TZOFFSETTO:+0100
TZNAME:CET
DTSTART:20201025T010000
END:STANDARD
BEGIN:DAYLIGHT
TZOFFSETFROM:+0100
TZOFFSETTO:+0200
TZNAME:CEST
DTSTART:20210328T010000
END:DAYLIGHT
BEGIN:STANDARD
TZOFFSETFROM:+0200
TZOFFSETTO:+0100
TZNAME:CET
DTSTART:20211031T010000
END:STANDARD
BEGIN:DAYLIGHT
TZOFFSETFROM:+0100
TZOFFSETTO:+0200
TZNAME:CEST
DTSTART:20220327T010000
END:DAYLIGHT
BEGIN:STANDARD
TZOFFSETFROM:+0200
TZOFFSETTO:+0100
TZNAME:CET
DTSTART:20221030T010000
END:STANDARD
END:VTIMEZONE
BEGIN:VEVENT
DTSTART;TZID=Europe/Oslo:20211008T093000
DTEND;TZID=Europe/Oslo:20211008T113000
DTSTAMP:20260423T101822
CREATED:20210913T174554Z
LAST-MODIFIED:20210913T174721Z
UID:10001610-1633685400-1633692600@proda.no
SUMMARY:MUD session: familie-jam
DESCRIPTION:Chriz Nypan og Michael Niako Lamarre leder oss gjennom en to timers workshop\, til herlige grooves med DJ Niwin!\nVelkommen til et jam for hele familien! \nFamiliejamet arrangeres i sammenheng med seminaret Foreldre i kunsten\, som arrangeres av ELLIS-nettverket (Et langt liv i Scenekunsten). \n  \nForeldre i kunsten\n21. oktober arrangerer ELLIS-nettverket seminar\, på Oslo Parkour Park. På seminaret deles ferske data fra undersøkelsen om å være ‘Foreldre i kunsten’ i Norge\, forskning fra bevegelseskunstner Katelyn Skellly\, samt informasjon og debatt med organisasjonen Balansekunst. Ilse Ghekiere og Olive Bieringa fra PRAXIS Oslo fasiliterer dagen med tid for fysisk utfoldelse og utveksling av praktiske erfaringer. \nDagen er delt i to 2.5 timers bolker som man kan delta på separat eller som en hel dag. \nFor mer informasjon og påmelding\, følg lenken under:\nhttps://skuespillersenter.no/kurs/ellis-foreldre-i-kunsten/ \n  \nMUD Session Oslo\nMUD står for Movement Undefined og startet som en åpen housedance-session for dansere på tvers av stil og bakgrunn. Konseptet ble initiert av det New York baserte kvinnelige housedans crewet MAWU i 2009\, og ble videreført i Oslo i 2015 av medlem Christine Nypan i samarbeid med Jens Trinidad. Siden da har MUD Session Oslo utviklet seg til å bli et møtepunkt for å dele kjærligheten for housedans\, -musikk og -kultur i Oslo. Vår visjon er å fremme housedanskulturen og å skape et inviterende\, åpent og trygt sted for alle menneskene som føler tilknytning til den. MUD Session Oslo har hatt månedlige sessions forskjellige steder i byen\, blant annet på Subsdans\, Dansens Hus og Kyrre Texnæs Studio.Høsten 2020 starter vi med faste sessions på Melahuset annenhver mandag fra 18.00-20.00. Tilbudet er gratis og åpent for alle.
URL:https://proda.no/klasse/mud-session-familie-jam/
LOCATION:PRODA Oslo\, Marstrandgata 8\, Oslo\, Norge
CATEGORIES:Workshops
ATTACH;FMTTYPE=image/png:https://proda.no/wp-content/uploads/2021/09/Design-uten-navn-1.png
END:VEVENT
END:VCALENDAR