BEGIN:VCALENDAR
VERSION:2.0
PRODID:-//PRODA - ECPv6.15.13.1//NONSGML v1.0//EN
CALSCALE:GREGORIAN
METHOD:PUBLISH
X-WR-CALNAME:PRODA
X-ORIGINAL-URL:https://proda.no
X-WR-CALDESC:Arrangement for PRODA
REFRESH-INTERVAL;VALUE=DURATION:PT1H
X-Robots-Tag:noindex
X-PUBLISHED-TTL:PT1H
BEGIN:VTIMEZONE
TZID:Europe/Oslo
BEGIN:DAYLIGHT
TZOFFSETFROM:+0100
TZOFFSETTO:+0200
TZNAME:CEST
DTSTART:20200329T010000
END:DAYLIGHT
BEGIN:STANDARD
TZOFFSETFROM:+0200
TZOFFSETTO:+0100
TZNAME:CET
DTSTART:20201025T010000
END:STANDARD
BEGIN:DAYLIGHT
TZOFFSETFROM:+0100
TZOFFSETTO:+0200
TZNAME:CEST
DTSTART:20210328T010000
END:DAYLIGHT
BEGIN:STANDARD
TZOFFSETFROM:+0200
TZOFFSETTO:+0100
TZNAME:CET
DTSTART:20211031T010000
END:STANDARD
BEGIN:DAYLIGHT
TZOFFSETFROM:+0100
TZOFFSETTO:+0200
TZNAME:CEST
DTSTART:20220327T010000
END:DAYLIGHT
BEGIN:STANDARD
TZOFFSETFROM:+0200
TZOFFSETTO:+0100
TZNAME:CET
DTSTART:20221030T010000
END:STANDARD
END:VTIMEZONE
BEGIN:VEVENT
DTSTART;TZID=Europe/Oslo:20210610T100000
DTEND;TZID=Europe/Oslo:20210610T110000
DTSTAMP:20260419T192028
CREATED:20210126T103337Z
LAST-MODIFIED:20210409T081634Z
UID:10002105-1623319200-1623322800@proda.no
SUMMARY:Somatisk praksis - Online
DESCRIPTION:med Gry Bech-Hanssen.\n\nDirekte link til klassen på Zoom: https://us02web.zoom.us/j/81472136744?pwd=QU9xcUxmd3FmenB1ZGZUNURNR3V4dz09 \n 
URL:https://proda.no/klasse/somatisk-praksis-2021-03-25-2021-04-15/2021-06-10/
LOCATION:Kjernekraft\, Folketeaterpassasjen\, Storgata 23\, Oslo\, 0184\, Norge
CATEGORIES:Klasser
ATTACH;FMTTYPE=image/jpeg:https://proda.no/wp-content/uploads/2021/01/Gry_Kjernekraft_ball_red.jpeg
END:VEVENT
BEGIN:VEVENT
DTSTART;TZID=Europe/Oslo:20210610T100000
DTEND;TZID=Europe/Oslo:20210610T113000
DTSTAMP:20260419T192028
CREATED:20210420T105130Z
LAST-MODIFIED:20210525T181204Z
UID:10001569-1623319200-1623324600@proda.no
SUMMARY:Jazz
DESCRIPTION:med Benedicte Lütken.
URL:https://proda.no/klasse/jazz-5-2021-05-27/2021-06-10/
LOCATION:PRODA Oslo\, Marstrandgata 8\, Oslo\, Norge
CATEGORIES:Klasser
ATTACH;FMTTYPE=image/jpeg:https://proda.no/wp-content/uploads/2017/03/Benedicte-Lucken.jpg
END:VEVENT
END:VCALENDAR