BEGIN:VCALENDAR
VERSION:2.0
PRODID:-//PRODA - ECPv6.15.13.1//NONSGML v1.0//EN
CALSCALE:GREGORIAN
METHOD:PUBLISH
X-WR-CALNAME:PRODA
X-ORIGINAL-URL:https://proda.no
X-WR-CALDESC:Arrangement for PRODA
REFRESH-INTERVAL;VALUE=DURATION:PT1H
X-Robots-Tag:noindex
X-PUBLISHED-TTL:PT1H
BEGIN:VTIMEZONE
TZID:Europe/Oslo
BEGIN:DAYLIGHT
TZOFFSETFROM:+0100
TZOFFSETTO:+0200
TZNAME:CEST
DTSTART:20200329T010000
END:DAYLIGHT
BEGIN:STANDARD
TZOFFSETFROM:+0200
TZOFFSETTO:+0100
TZNAME:CET
DTSTART:20201025T010000
END:STANDARD
BEGIN:DAYLIGHT
TZOFFSETFROM:+0100
TZOFFSETTO:+0200
TZNAME:CEST
DTSTART:20210328T010000
END:DAYLIGHT
BEGIN:STANDARD
TZOFFSETFROM:+0200
TZOFFSETTO:+0100
TZNAME:CET
DTSTART:20211031T010000
END:STANDARD
BEGIN:DAYLIGHT
TZOFFSETFROM:+0100
TZOFFSETTO:+0200
TZNAME:CEST
DTSTART:20220327T010000
END:DAYLIGHT
BEGIN:STANDARD
TZOFFSETFROM:+0200
TZOFFSETTO:+0100
TZNAME:CET
DTSTART:20221030T010000
END:STANDARD
END:VTIMEZONE
BEGIN:VEVENT
DTSTART;TZID=Europe/Oslo:20210609T090000
DTEND;TZID=Europe/Oslo:20210609T110000
DTSTAMP:20260421T150009
CREATED:20210128T123027Z
LAST-MODIFIED:20210319T111810Z
UID:10001546-1623229200-1623236400@proda.no
SUMMARY:Constant Movement
DESCRIPTION:med Annette Brandanger. \n\nPåmelding direkte til abrandanger@gmail.com \n\nHvis det ikke blir mulig å samles innendørs vil det bli utetrening (8stk) eller online. \n  \n 
URL:https://proda.no/klasse/constant-movement/2021-06-09/
LOCATION:Oslo Parkour Park\, Konows gate 1\, Oslo\, 0192\, Norge
CATEGORIES:Klasser
ATTACH;FMTTYPE=image/jpeg:https://proda.no/wp-content/uploads/2021/01/IMG_9971-scaled.jpg
END:VEVENT
BEGIN:VEVENT
DTSTART;TZID=Europe/Oslo:20210609T103000
DTEND;TZID=Europe/Oslo:20210609T120000
DTSTAMP:20260421T150009
CREATED:20210105T105917Z
LAST-MODIFIED:20210105T105917Z
UID:10002084-1623234600-1623240000@proda.no
SUMMARY:Ballett
DESCRIPTION:med Julie Dokken.
URL:https://proda.no/klasse/ballett-22/2021-06-09/
LOCATION:PRODA Oslo\, Marstrandgata 8\, Oslo\, Norge
CATEGORIES:Klasser
ATTACH;FMTTYPE=image/jpeg:https://proda.no/wp-content/uploads/2021/01/Julie-Dokken-scaled.jpg
END:VEVENT
END:VCALENDAR