BEGIN:VCALENDAR
VERSION:2.0
PRODID:-//PRODA - ECPv6.15.13.1//NONSGML v1.0//EN
CALSCALE:GREGORIAN
METHOD:PUBLISH
X-WR-CALNAME:PRODA
X-ORIGINAL-URL:https://proda.no/en
X-WR-CALDESC:Events for PRODA
REFRESH-INTERVAL;VALUE=DURATION:PT1H
X-Robots-Tag:noindex
X-PUBLISHED-TTL:PT1H
BEGIN:VTIMEZONE
TZID:Europe/Oslo
BEGIN:DAYLIGHT
TZOFFSETFROM:+0100
TZOFFSETTO:+0200
TZNAME:CEST
DTSTART:20200329T010000
END:DAYLIGHT
BEGIN:STANDARD
TZOFFSETFROM:+0200
TZOFFSETTO:+0100
TZNAME:CET
DTSTART:20201025T010000
END:STANDARD
BEGIN:DAYLIGHT
TZOFFSETFROM:+0100
TZOFFSETTO:+0200
TZNAME:CEST
DTSTART:20210328T010000
END:DAYLIGHT
BEGIN:STANDARD
TZOFFSETFROM:+0200
TZOFFSETTO:+0100
TZNAME:CET
DTSTART:20211031T010000
END:STANDARD
BEGIN:DAYLIGHT
TZOFFSETFROM:+0100
TZOFFSETTO:+0200
TZNAME:CEST
DTSTART:20220327T010000
END:DAYLIGHT
BEGIN:STANDARD
TZOFFSETFROM:+0200
TZOFFSETTO:+0100
TZNAME:CET
DTSTART:20221030T010000
END:STANDARD
END:VTIMEZONE
BEGIN:VEVENT
DTSTART;TZID=Europe/Oslo:20210621T100000
DTEND;TZID=Europe/Oslo:20210621T113000
DTSTAMP:20260419T201125
CREATED:20210607T092418Z
LAST-MODIFIED:20210607T093111Z
UID:10001574-1624269600-1624275000@proda.no
SUMMARY:Workshop Carl Aquilizan
DESCRIPTION:Arrangeres i samarbeid med Oslo Jazzdansfestival! \nI denne workshopen tar Aquilizan dere med inn i universet hvor han har forsket frem materialet til verket FLOWER BOY\, som står på scenen under Oslo Jazzdansfestival 20.6. Verket tilnærmer seg jazzdansen gjennom perspektiver som trekker på butoh\, tekst og identitet\, og ønsker å skape transformative opplevelser for både utøver og publikum\, og samtidig gi rom for å reflektere over og utfordre kjønnsstereotypier gjennom poetiske bilder. \nPåmelding til workshop sendes til post@oslojazzdansfestival.no \nPris for PRODA-medlemmer: 100 kr\nPris for andre: 200 kr
URL:https://proda.no/en/klasse/workshop-carl-aquilizan/
LOCATION:Scenehuset\, Bogstadveien 59\, Oslo\, Oslo\, 0366
CATEGORIES:Oslo Jazzdansfestival
ATTACH;FMTTYPE=image/png:https://proda.no/wp-content/uploads/2021/06/Carl-Aquilizan.png
ORGANIZER;CN="Oslo Jazzdansfestival":MAILTO:post@oslojazzdansfestival.no
END:VEVENT
BEGIN:VEVENT
DTSTART;TZID=Europe/Oslo:20210621T120000
DTEND;TZID=Europe/Oslo:20210621T133000
DTSTAMP:20260419T201125
CREATED:20210607T093300Z
LAST-MODIFIED:20210607T093300Z
UID:10001575-1624276800-1624282200@proda.no
SUMMARY:Workshop Lill-Kristine Konst
DESCRIPTION:Arrangeres i samarbeid med Oslo Jazzdansfestival! \nGjennom mange års erfaring med heels som stilart og sjanger både som danser\, pedagog og koreograf er Konst en solid representant for SHE Heels Company i denne workshopen. I verket WHO IS SHE?\, som står på scenen under Oslo Jazzdansfestival 24.6.\, utfordrer SHE perspektivet på jazzens mange undersjangere som kommersiell dans\, gjennom å vise hvordan uttrykksformen kan bære både det å være formidlende og være av autonom kunstnerisk verdi. \nPåmelding til workshop sendes til post@oslojazzdansfestival.no \nPris for PRODA-medlemmer: 100 kr\nPris for andre: 200 kr
URL:https://proda.no/en/klasse/workshop-lill-kristine-konst/
LOCATION:Scenehuset\, Bogstadveien 59\, Oslo\, Oslo\, 0366
CATEGORIES:Oslo Jazzdansfestival
ATTACH;FMTTYPE=image/png:https://proda.no/wp-content/uploads/2021/06/Lill-Kristine-Konst.png
ORGANIZER;CN="Oslo Jazzdansfestival":MAILTO:post@oslojazzdansfestival.no
END:VEVENT
BEGIN:VEVENT
DTSTART;TZID=Europe/Oslo:20210625T180000
DTEND;TZID=Europe/Oslo:20210625T193000
DTSTAMP:20260419T201125
CREATED:20210607T094316Z
LAST-MODIFIED:20210607T094356Z
UID:10001578-1624644000-1624649400@proda.no
SUMMARY:Panelsamtale under OJDF
DESCRIPTION:Arrangement under Oslo Jazzdansfestival 2021\, arrangeres i samarbeid med PRODA. \nPanelsamtalen vil i årets utgave av festivalen dreie seg om sjangeroverskridende arbeid siden det er mange av våre medvirkende som stiller spørsmål ved tradisjonelt etablerte kategorier\, både med tanke på dansekategorier og identitet mer generelt. På liknende måte som verkene omhandler det å finne ny giv og trygghet i det usikre\, beveger danserne seg i grenseland med tanke på sjangertilhørighet. Alle identifiserer verkene sine med jazzdansen\, men ikke bare med denne danseformen. Vi ønsker derfor å lære mer om hvordan disse kunstnerne beveger seg inn og ut av\, og kombinerer ulike sjangre. Hvilke redskaper og utfordringer byr dette på som profesjonell skaper\, utøver og formidler av dans? Er sjanger noe danseren er eller gjør? \nPaneldeltakere: Carl Joseph Aquilizan\, Ornilia Percia Ubisse og Mai Elin Løkken.\nModeratorer: Natalie Dahl og Ingvild Vaagsether\, kunstneriske ledere for Oslo Jazzdansfestival. \nBilletter kan reserveres på epost til post@oslojazzdansfestival.no\nPris for PRODA-medlemmer kr 50. \n 
URL:https://proda.no/en/klasse/panelsamtale-under-ojdf/
LOCATION:Scenehuset\, Bogstadveien 59\, Oslo\, Oslo\, 0366
CATEGORIES:Oslo Jazzdansfestival
ORGANIZER;CN="Oslo Jazzdansfestival":MAILTO:post@oslojazzdansfestival.no
END:VEVENT
END:VCALENDAR