BEGIN:VCALENDAR
VERSION:2.0
PRODID:-//PRODA - ECPv6.15.13.1//NONSGML v1.0//EN
CALSCALE:GREGORIAN
METHOD:PUBLISH
X-WR-CALNAME:PRODA
X-ORIGINAL-URL:https://proda.no/en
X-WR-CALDESC:Events for PRODA
REFRESH-INTERVAL;VALUE=DURATION:PT1H
X-Robots-Tag:noindex
X-PUBLISHED-TTL:PT1H
BEGIN:VTIMEZONE
TZID:Europe/Oslo
BEGIN:DAYLIGHT
TZOFFSETFROM:+0100
TZOFFSETTO:+0200
TZNAME:CEST
DTSTART:20240331T010000
END:DAYLIGHT
BEGIN:STANDARD
TZOFFSETFROM:+0200
TZOFFSETTO:+0100
TZNAME:CET
DTSTART:20241027T010000
END:STANDARD
BEGIN:DAYLIGHT
TZOFFSETFROM:+0100
TZOFFSETTO:+0200
TZNAME:CEST
DTSTART:20250330T010000
END:DAYLIGHT
BEGIN:STANDARD
TZOFFSETFROM:+0200
TZOFFSETTO:+0100
TZNAME:CET
DTSTART:20251026T010000
END:STANDARD
BEGIN:DAYLIGHT
TZOFFSETFROM:+0100
TZOFFSETTO:+0200
TZNAME:CEST
DTSTART:20260329T010000
END:DAYLIGHT
BEGIN:STANDARD
TZOFFSETFROM:+0200
TZOFFSETTO:+0100
TZNAME:CET
DTSTART:20261025T010000
END:STANDARD
END:VTIMEZONE
BEGIN:VEVENT
DTSTART;TZID=Europe/Oslo:20250513T103000
DTEND;TZID=Europe/Oslo:20250513T120000
DTSTAMP:20260421T210058
CREATED:20241216T140047Z
LAST-MODIFIED:20250422T133409Z
UID:10003488-1747132200-1747137600@proda.no
SUMMARY:Samtidsdans
DESCRIPTION:med Iannes Bruylant: \nClass description: \n\nThe class will be a contemporary floor work class in which the focus will be on relaxation and release into the floor. I usually start with a short warm-up inspired by the release technique and somatics as it helps get rid of unnecessary tension\, which is a thread through the class “How to waste less energy and use momentum and release to drive movement». This is my goal even when the movement material gets more complex. Then I usually work on some isolated basic coordinations and floor technique through crossings. Later I work on longer phrasing integrating the elements from earlier and focusing on continuity. On of my main goals is an encouraging\, positive and growth based atmosphere. \n\n\nFoto: Neil Nisbet
URL:https://proda.no/en/klasse/samtidsdans-34/2025-05-13/
LOCATION:PRODA Oslo\, Marstrandgata 8\, Oslo\, Norge
CATEGORIES:Klasser
ATTACH;FMTTYPE=image/jpeg:https://proda.no/wp-content/uploads/2024/12/Iannes-Bruylant_Niel-Nisbet-scaled.jpg
END:VEVENT
END:VCALENDAR