BEGIN:VCALENDAR
VERSION:2.0
PRODID:-//PRODA - ECPv6.15.13.1//NONSGML v1.0//EN
CALSCALE:GREGORIAN
METHOD:PUBLISH
X-WR-CALNAME:PRODA
X-ORIGINAL-URL:https://proda.no/en
X-WR-CALDESC:Events for PRODA
REFRESH-INTERVAL;VALUE=DURATION:PT1H
X-Robots-Tag:noindex
X-PUBLISHED-TTL:PT1H
BEGIN:VTIMEZONE
TZID:Europe/Oslo
BEGIN:DAYLIGHT
TZOFFSETFROM:+0100
TZOFFSETTO:+0200
TZNAME:CEST
DTSTART:20190331T010000
END:DAYLIGHT
BEGIN:STANDARD
TZOFFSETFROM:+0200
TZOFFSETTO:+0100
TZNAME:CET
DTSTART:20191027T010000
END:STANDARD
BEGIN:DAYLIGHT
TZOFFSETFROM:+0100
TZOFFSETTO:+0200
TZNAME:CEST
DTSTART:20200329T010000
END:DAYLIGHT
BEGIN:STANDARD
TZOFFSETFROM:+0200
TZOFFSETTO:+0100
TZNAME:CET
DTSTART:20201025T010000
END:STANDARD
BEGIN:DAYLIGHT
TZOFFSETFROM:+0100
TZOFFSETTO:+0200
TZNAME:CEST
DTSTART:20210328T010000
END:DAYLIGHT
BEGIN:STANDARD
TZOFFSETFROM:+0200
TZOFFSETTO:+0100
TZNAME:CET
DTSTART:20211031T010000
END:STANDARD
END:VTIMEZONE
BEGIN:VEVENT
DTSTART;TZID=Europe/Oslo:20201022T090000
DTEND;TZID=Europe/Oslo:20201022T100000
DTSTAMP:20260425T125903
CREATED:20200930T074817Z
LAST-MODIFIED:20201008T105914Z
UID:10001426-1603357200-1603360800@proda.no
SUMMARY:Yoga
DESCRIPTION:Anne Marit Tynes – \nSamarbeid med Nagelhus Schia Productions. \nOBS: klassen holdes i Studio NSP i Sandvika. Du må ta med egen yogamatte!
URL:https://proda.no/en/klasse/yoga/2020-10-22/
LOCATION:Studio NSP\, Eyvind Lyches vei 11B\, Sandvika\, Sandvika\, 1338\, Norge
CATEGORIES:Klasser
ATTACH;FMTTYPE=image/jpeg:https://proda.no/wp-content/uploads/2020/09/IMG_3988-225x300-1.jpg
END:VEVENT
BEGIN:VEVENT
DTSTART;TZID=Europe/Oslo:20201022T101500
DTEND;TZID=Europe/Oslo:20201022T113500
DTSTAMP:20260425T125903
CREATED:20200706T084605Z
LAST-MODIFIED:20201008T121636Z
UID:10001399-1603361700-1603366500@proda.no
SUMMARY:House
DESCRIPTION:med Anne Golberg Stavn. \n 
URL:https://proda.no/en/klasse/house/2020-10-22/
LOCATION:PRODA Oslo\, Marstrandgata 8\, Oslo\, Norge
CATEGORIES:Klasser
ATTACH;FMTTYPE=image/jpeg:https://proda.no/wp-content/uploads/2020/01/anne-goldberg-scaled-e1583306994988.jpg
END:VEVENT
END:VCALENDAR